BEGIN:VCALENDAR
VERSION:2.0
PRODID:-//Saint Louis Alumnae Chapter of Delta Sigma Theta Sorority, Inc. - ECPv6.15.20//NONSGML v1.0//EN
CALSCALE:GREGORIAN
METHOD:PUBLISH
X-ORIGINAL-URL:https://sladst1913.com
X-WR-CALDESC:Events for Saint Louis Alumnae Chapter of Delta Sigma Theta Sorority, Inc.
REFRESH-INTERVAL;VALUE=DURATION:PT1H
X-Robots-Tag:noindex
X-PUBLISHED-TTL:PT1H
BEGIN:VTIMEZONE
TZID:America/Chicago
BEGIN:DAYLIGHT
TZOFFSETFROM:-0600
TZOFFSETTO:-0500
TZNAME:CDT
DTSTART:20280312T080000
END:DAYLIGHT
BEGIN:STANDARD
TZOFFSETFROM:-0500
TZOFFSETTO:-0600
TZNAME:CST
DTSTART:20281105T070000
END:STANDARD
BEGIN:DAYLIGHT
TZOFFSETFROM:-0600
TZOFFSETTO:-0500
TZNAME:CDT
DTSTART:20290311T080000
END:DAYLIGHT
BEGIN:STANDARD
TZOFFSETFROM:-0500
TZOFFSETTO:-0600
TZNAME:CST
DTSTART:20291104T070000
END:STANDARD
BEGIN:DAYLIGHT
TZOFFSETFROM:-0600
TZOFFSETTO:-0500
TZNAME:CDT
DTSTART:20300310T080000
END:DAYLIGHT
BEGIN:STANDARD
TZOFFSETFROM:-0500
TZOFFSETTO:-0600
TZNAME:CST
DTSTART:20301103T070000
END:STANDARD
BEGIN:DAYLIGHT
TZOFFSETFROM:-0600
TZOFFSETTO:-0500
TZNAME:CDT
DTSTART:20310309T080000
END:DAYLIGHT
BEGIN:STANDARD
TZOFFSETFROM:-0500
TZOFFSETTO:-0600
TZNAME:CST
DTSTART:20311102T070000
END:STANDARD
END:VTIMEZONE
BEGIN:VEVENT
DTSTART;TZID=America/Chicago:20291103T130000
DTEND;TZID=America/Chicago:20291103T150000
DTSTAMP:20260420T215953
CREATED:20250519T170017Z
LAST-MODIFIED:20250912T211705Z
UID:10000163-1888405200-1888412400@sladst1913.com
SUMMARY:SLA Chapter Meeting
DESCRIPTION:Monthly Meeting of the Sorors of the Saint Louis Alumnae chapter of Delta Sigma Theta Sorority\, Inc.
URL:https://sladst1913.com/event/sla-chapter-meeting-2/2029-11-03/
LOCATION:Carr Lane VPA Middle School\, 1004 N. Jefferson\, Saint Louis\, MO\, 63106\, United States
CATEGORIES:Chapter Meeting
ATTACH;FMTTYPE=image/png:https://sladst1913.com/wp-content/uploads/2025/01/NewSLAlogo_Outline.png
ORGANIZER;CN="Tracey Carter%2C President":MAILTO:president.sladst@gmail.com
END:VEVENT
BEGIN:VEVENT
DTSTART;TZID=America/Chicago:20291201T130000
DTEND;TZID=America/Chicago:20291201T150000
DTSTAMP:20260420T215953
CREATED:20250519T170017Z
LAST-MODIFIED:20250912T211705Z
UID:10000164-1890824400-1890831600@sladst1913.com
SUMMARY:SLA Chapter Meeting
DESCRIPTION:Monthly Meeting of the Sorors of the Saint Louis Alumnae chapter of Delta Sigma Theta Sorority\, Inc.
URL:https://sladst1913.com/event/sla-chapter-meeting-2/2029-12-01/
LOCATION:Carr Lane VPA Middle School\, 1004 N. Jefferson\, Saint Louis\, MO\, 63106\, United States
CATEGORIES:Chapter Meeting
ATTACH;FMTTYPE=image/png:https://sladst1913.com/wp-content/uploads/2025/01/NewSLAlogo_Outline.png
ORGANIZER;CN="Tracey Carter%2C President":MAILTO:president.sladst@gmail.com
END:VEVENT
BEGIN:VEVENT
DTSTART;TZID=America/Chicago:20300105T130000
DTEND;TZID=America/Chicago:20300105T150000
DTSTAMP:20260420T215953
CREATED:20250519T170017Z
LAST-MODIFIED:20250912T211705Z
UID:10000165-1893848400-1893855600@sladst1913.com
SUMMARY:SLA Chapter Meeting
DESCRIPTION:Monthly Meeting of the Sorors of the Saint Louis Alumnae chapter of Delta Sigma Theta Sorority\, Inc.
URL:https://sladst1913.com/event/sla-chapter-meeting-2/2030-01-05/
LOCATION:Carr Lane VPA Middle School\, 1004 N. Jefferson\, Saint Louis\, MO\, 63106\, United States
CATEGORIES:Chapter Meeting
ATTACH;FMTTYPE=image/png:https://sladst1913.com/wp-content/uploads/2025/01/NewSLAlogo_Outline.png
ORGANIZER;CN="Tracey Carter%2C President":MAILTO:president.sladst@gmail.com
END:VEVENT
BEGIN:VEVENT
DTSTART;TZID=America/Chicago:20300202T130000
DTEND;TZID=America/Chicago:20300202T150000
DTSTAMP:20260420T215953
CREATED:20250519T170017Z
LAST-MODIFIED:20250912T211705Z
UID:10000166-1896267600-1896274800@sladst1913.com
SUMMARY:SLA Chapter Meeting
DESCRIPTION:Monthly Meeting of the Sorors of the Saint Louis Alumnae chapter of Delta Sigma Theta Sorority\, Inc.
URL:https://sladst1913.com/event/sla-chapter-meeting-2/2030-02-02/
LOCATION:Carr Lane VPA Middle School\, 1004 N. Jefferson\, Saint Louis\, MO\, 63106\, United States
CATEGORIES:Chapter Meeting
ATTACH;FMTTYPE=image/png:https://sladst1913.com/wp-content/uploads/2025/01/NewSLAlogo_Outline.png
ORGANIZER;CN="Tracey Carter%2C President":MAILTO:president.sladst@gmail.com
END:VEVENT
BEGIN:VEVENT
DTSTART;TZID=America/Chicago:20300302T130000
DTEND;TZID=America/Chicago:20300302T150000
DTSTAMP:20260420T215953
CREATED:20250519T170017Z
LAST-MODIFIED:20250912T211705Z
UID:10000167-1898686800-1898694000@sladst1913.com
SUMMARY:SLA Chapter Meeting
DESCRIPTION:Monthly Meeting of the Sorors of the Saint Louis Alumnae chapter of Delta Sigma Theta Sorority\, Inc.
URL:https://sladst1913.com/event/sla-chapter-meeting-2/2030-03-02/
LOCATION:Carr Lane VPA Middle School\, 1004 N. Jefferson\, Saint Louis\, MO\, 63106\, United States
CATEGORIES:Chapter Meeting
ATTACH;FMTTYPE=image/png:https://sladst1913.com/wp-content/uploads/2025/01/NewSLAlogo_Outline.png
ORGANIZER;CN="Tracey Carter%2C President":MAILTO:president.sladst@gmail.com
END:VEVENT
BEGIN:VEVENT
DTSTART;TZID=America/Chicago:20300406T130000
DTEND;TZID=America/Chicago:20300406T150000
DTSTAMP:20260420T215953
CREATED:20250519T170017Z
LAST-MODIFIED:20250912T211705Z
UID:10000168-1901710800-1901718000@sladst1913.com
SUMMARY:SLA Chapter Meeting
DESCRIPTION:Monthly Meeting of the Sorors of the Saint Louis Alumnae chapter of Delta Sigma Theta Sorority\, Inc.
URL:https://sladst1913.com/event/sla-chapter-meeting-2/2030-04-06/
LOCATION:Carr Lane VPA Middle School\, 1004 N. Jefferson\, Saint Louis\, MO\, 63106\, United States
CATEGORIES:Chapter Meeting
ATTACH;FMTTYPE=image/png:https://sladst1913.com/wp-content/uploads/2025/01/NewSLAlogo_Outline.png
ORGANIZER;CN="Tracey Carter%2C President":MAILTO:president.sladst@gmail.com
END:VEVENT
BEGIN:VEVENT
DTSTART;TZID=America/Chicago:20300504T130000
DTEND;TZID=America/Chicago:20300504T150000
DTSTAMP:20260420T215953
CREATED:20250519T170017Z
LAST-MODIFIED:20250912T211705Z
UID:10000169-1904130000-1904137200@sladst1913.com
SUMMARY:SLA Chapter Meeting
DESCRIPTION:Monthly Meeting of the Sorors of the Saint Louis Alumnae chapter of Delta Sigma Theta Sorority\, Inc.
URL:https://sladst1913.com/event/sla-chapter-meeting-2/2030-05-04/
LOCATION:Carr Lane VPA Middle School\, 1004 N. Jefferson\, Saint Louis\, MO\, 63106\, United States
CATEGORIES:Chapter Meeting
ATTACH;FMTTYPE=image/png:https://sladst1913.com/wp-content/uploads/2025/01/NewSLAlogo_Outline.png
ORGANIZER;CN="Tracey Carter%2C President":MAILTO:president.sladst@gmail.com
END:VEVENT
BEGIN:VEVENT
DTSTART;TZID=America/Chicago:20300601T130000
DTEND;TZID=America/Chicago:20300601T150000
DTSTAMP:20260420T215953
CREATED:20250519T170017Z
LAST-MODIFIED:20250912T211705Z
UID:10000170-1906549200-1906556400@sladst1913.com
SUMMARY:SLA Chapter Meeting
DESCRIPTION:Monthly Meeting of the Sorors of the Saint Louis Alumnae chapter of Delta Sigma Theta Sorority\, Inc.
URL:https://sladst1913.com/event/sla-chapter-meeting-2/2030-06-01/
LOCATION:Carr Lane VPA Middle School\, 1004 N. Jefferson\, Saint Louis\, MO\, 63106\, United States
CATEGORIES:Chapter Meeting
ATTACH;FMTTYPE=image/png:https://sladst1913.com/wp-content/uploads/2025/01/NewSLAlogo_Outline.png
ORGANIZER;CN="Tracey Carter%2C President":MAILTO:president.sladst@gmail.com
END:VEVENT
BEGIN:VEVENT
DTSTART;TZID=America/Chicago:20300706T130000
DTEND;TZID=America/Chicago:20300706T150000
DTSTAMP:20260420T215953
CREATED:20250519T170017Z
LAST-MODIFIED:20250912T211705Z
UID:10000171-1909573200-1909580400@sladst1913.com
SUMMARY:SLA Chapter Meeting
DESCRIPTION:Monthly Meeting of the Sorors of the Saint Louis Alumnae chapter of Delta Sigma Theta Sorority\, Inc.
URL:https://sladst1913.com/event/sla-chapter-meeting-2/2030-07-06/
LOCATION:Carr Lane VPA Middle School\, 1004 N. Jefferson\, Saint Louis\, MO\, 63106\, United States
CATEGORIES:Chapter Meeting
ATTACH;FMTTYPE=image/png:https://sladst1913.com/wp-content/uploads/2025/01/NewSLAlogo_Outline.png
ORGANIZER;CN="Tracey Carter%2C President":MAILTO:president.sladst@gmail.com
END:VEVENT
BEGIN:VEVENT
DTSTART;TZID=America/Chicago:20300803T130000
DTEND;TZID=America/Chicago:20300803T150000
DTSTAMP:20260420T215953
CREATED:20250519T170017Z
LAST-MODIFIED:20250912T211705Z
UID:10000172-1911992400-1911999600@sladst1913.com
SUMMARY:SLA Chapter Meeting
DESCRIPTION:Monthly Meeting of the Sorors of the Saint Louis Alumnae chapter of Delta Sigma Theta Sorority\, Inc.
URL:https://sladst1913.com/event/sla-chapter-meeting-2/2030-08-03/
LOCATION:Carr Lane VPA Middle School\, 1004 N. Jefferson\, Saint Louis\, MO\, 63106\, United States
CATEGORIES:Chapter Meeting
ATTACH;FMTTYPE=image/png:https://sladst1913.com/wp-content/uploads/2025/01/NewSLAlogo_Outline.png
ORGANIZER;CN="Tracey Carter%2C President":MAILTO:president.sladst@gmail.com
END:VEVENT
BEGIN:VEVENT
DTSTART;TZID=America/Chicago:20300907T130000
DTEND;TZID=America/Chicago:20300907T150000
DTSTAMP:20260420T215953
CREATED:20250519T170017Z
LAST-MODIFIED:20250912T211705Z
UID:10000173-1915016400-1915023600@sladst1913.com
SUMMARY:SLA Chapter Meeting
DESCRIPTION:Monthly Meeting of the Sorors of the Saint Louis Alumnae chapter of Delta Sigma Theta Sorority\, Inc.
URL:https://sladst1913.com/event/sla-chapter-meeting-2/2030-09-07/
LOCATION:Carr Lane VPA Middle School\, 1004 N. Jefferson\, Saint Louis\, MO\, 63106\, United States
CATEGORIES:Chapter Meeting
ATTACH;FMTTYPE=image/png:https://sladst1913.com/wp-content/uploads/2025/01/NewSLAlogo_Outline.png
ORGANIZER;CN="Tracey Carter%2C President":MAILTO:president.sladst@gmail.com
END:VEVENT
BEGIN:VEVENT
DTSTART;TZID=America/Chicago:20301005T130000
DTEND;TZID=America/Chicago:20301005T150000
DTSTAMP:20260420T215953
CREATED:20250519T170017Z
LAST-MODIFIED:20250912T211705Z
UID:10000248-1917435600-1917442800@sladst1913.com
SUMMARY:SLA Chapter Meeting
DESCRIPTION:Monthly Meeting of the Sorors of the Saint Louis Alumnae chapter of Delta Sigma Theta Sorority\, Inc.
URL:https://sladst1913.com/event/sla-chapter-meeting-2/2030-10-05/
LOCATION:Carr Lane VPA Middle School\, 1004 N. Jefferson\, Saint Louis\, MO\, 63106\, United States
CATEGORIES:Chapter Meeting
ATTACH;FMTTYPE=image/png:https://sladst1913.com/wp-content/uploads/2025/01/NewSLAlogo_Outline.png
ORGANIZER;CN="Tracey Carter%2C President":MAILTO:president.sladst@gmail.com
END:VEVENT
END:VCALENDAR