BEGIN:VCALENDAR
VERSION:2.0
PRODID:-//Saint Louis Alumnae Chapter of Delta Sigma Theta Sorority, Inc. - ECPv6.15.20//NONSGML v1.0//EN
CALSCALE:GREGORIAN
METHOD:PUBLISH
X-ORIGINAL-URL:https://sladst1913.com
X-WR-CALDESC:Events for Saint Louis Alumnae Chapter of Delta Sigma Theta Sorority, Inc.
REFRESH-INTERVAL;VALUE=DURATION:PT1H
X-Robots-Tag:noindex
X-PUBLISHED-TTL:PT1H
BEGIN:VTIMEZONE
TZID:America/Chicago
BEGIN:DAYLIGHT
TZOFFSETFROM:-0600
TZOFFSETTO:-0500
TZNAME:CDT
DTSTART:20250309T080000
END:DAYLIGHT
BEGIN:STANDARD
TZOFFSETFROM:-0500
TZOFFSETTO:-0600
TZNAME:CST
DTSTART:20251102T070000
END:STANDARD
BEGIN:DAYLIGHT
TZOFFSETFROM:-0600
TZOFFSETTO:-0500
TZNAME:CDT
DTSTART:20260308T080000
END:DAYLIGHT
BEGIN:STANDARD
TZOFFSETFROM:-0500
TZOFFSETTO:-0600
TZNAME:CST
DTSTART:20261101T070000
END:STANDARD
BEGIN:DAYLIGHT
TZOFFSETFROM:-0600
TZOFFSETTO:-0500
TZNAME:CDT
DTSTART:20270314T080000
END:DAYLIGHT
BEGIN:STANDARD
TZOFFSETFROM:-0500
TZOFFSETTO:-0600
TZNAME:CST
DTSTART:20271107T070000
END:STANDARD
END:VTIMEZONE
BEGIN:VEVENT
DTSTART;TZID=America/Chicago:20260519T180000
DTEND;TZID=America/Chicago:20260519T210000
DTSTAMP:20260420T063154
CREATED:20260404T140917Z
LAST-MODIFIED:20260404T140925Z
UID:10000344-1779213600-1779224400@sladst1913.com
SUMMARY:Black Women's Health: A Series of Community Panel Discussions
DESCRIPTION:The Saint Louis Alumnae Chapter of Delta Sigma Theta Sorority\, Inc. & SSM Health DePaul present Black Women’s Health: A Series of Community Panel Discussions.   \n\n\n\nSession 1: Black Maternal Health: Our Bodies\, Our Stories: Advocating for Black Maternal Health \n\n\n\nSession 2: Maternal Mental Health: Beyond the Bump: Honest Conversations on Maternal Mental Health \n\n\n\nSession 3: Menopause Unfiltered: Menopause\, The Change We Don’t Talk About \n\n\n\nFree Admission.  Register for all 3 Series Sessions at the link here >>> https://www.signupgenius.com/go/10C0E4DAFAA28A2F8CF8-63046442-2026#/ \n\n\n\nDoors open at 5:30pm. Light refreshments provided.
URL:https://sladst1913.com/event/black-womens-health-a-series-of-community-panel-discussions/2026-05-19/
LOCATION:SSM Health DePaul\, The May Center\, 12303 DePaul Drive\, Bridgeton\, Missouri\, 63044
CATEGORIES:Featured Events
ATTACH;FMTTYPE=image/png:https://sladst1913.com/wp-content/uploads/2026/04/Joint-PMH-Programming.png
END:VEVENT
BEGIN:VEVENT
DTSTART;TZID=America/Chicago:20260521T000000
DTEND;TZID=America/Chicago:20260521T235959
DTSTAMP:20260420T063154
CREATED:20251101T140530Z
LAST-MODIFIED:20251101T140535Z
UID:10000244-1779321600-1779407999@sladst1913.com
SUMMARY:2026 Central Regional Conference
DESCRIPTION:Are you READY for the 2026 Central Regional Conference?! Denver Alumnae Chapter was excited when they heard that Denver\, CO will be the site of the 52nd Central Regional Conference. We hope that you are just as excited as the Denver Alumnae Chapter.\n\n\n\nhttps://drive.google.com/file/d/1Wiwqweq_uwB9DtvRYZbTrGgRhZzpMVGB/view
URL:https://sladst1913.com/event/2026-central-regional-conference/2026-05-21/
LOCATION:Missouri
ATTACH;FMTTYPE=image/png:https://sladst1913.com/wp-content/uploads/2025/11/Regional-conference-announcement.png
END:VEVENT
BEGIN:VEVENT
DTSTART;TZID=America/Chicago:20260522T000000
DTEND;TZID=America/Chicago:20260522T235959
DTSTAMP:20260420T063154
CREATED:20251101T140530Z
LAST-MODIFIED:20251101T140535Z
UID:10000245-1779408000-1779494399@sladst1913.com
SUMMARY:2026 Central Regional Conference
DESCRIPTION:Are you READY for the 2026 Central Regional Conference?! Denver Alumnae Chapter was excited when they heard that Denver\, CO will be the site of the 52nd Central Regional Conference. We hope that you are just as excited as the Denver Alumnae Chapter.\n\n\n\nhttps://drive.google.com/file/d/1Wiwqweq_uwB9DtvRYZbTrGgRhZzpMVGB/view
URL:https://sladst1913.com/event/2026-central-regional-conference/2026-05-22/
LOCATION:Missouri
ATTACH;FMTTYPE=image/png:https://sladst1913.com/wp-content/uploads/2025/11/Regional-conference-announcement.png
END:VEVENT
BEGIN:VEVENT
DTSTART;TZID=America/Chicago:20260523T000000
DTEND;TZID=America/Chicago:20260523T235959
DTSTAMP:20260420T063154
CREATED:20250924T231259Z
LAST-MODIFIED:20250924T231303Z
UID:10000227-1779494400-1779580799@sladst1913.com
SUMMARY:Gateway 180 Workshop
DESCRIPTION:
URL:https://sladst1913.com/event/gateway-180-workshop/
LOCATION:Missouri
ATTACH;FMTTYPE=image/jpeg:https://sladst1913.com/wp-content/uploads/2025/09/PlanIcon__99554878-scaled.jpeg
END:VEVENT
BEGIN:VEVENT
DTSTART;TZID=America/Chicago:20260523T000000
DTEND;TZID=America/Chicago:20260523T235959
DTSTAMP:20260420T063154
CREATED:20251101T140530Z
LAST-MODIFIED:20251101T140535Z
UID:10000246-1779494400-1779580799@sladst1913.com
SUMMARY:2026 Central Regional Conference
DESCRIPTION:Are you READY for the 2026 Central Regional Conference?! Denver Alumnae Chapter was excited when they heard that Denver\, CO will be the site of the 52nd Central Regional Conference. We hope that you are just as excited as the Denver Alumnae Chapter.\n\n\n\nhttps://drive.google.com/file/d/1Wiwqweq_uwB9DtvRYZbTrGgRhZzpMVGB/view
URL:https://sladst1913.com/event/2026-central-regional-conference/2026-05-23/
LOCATION:Missouri
ATTACH;FMTTYPE=image/png:https://sladst1913.com/wp-content/uploads/2025/11/Regional-conference-announcement.png
END:VEVENT
BEGIN:VEVENT
DTSTART;TZID=America/Chicago:20260523T100000
DTEND;TZID=America/Chicago:20260523T110000
DTSTAMP:20260420T063154
CREATED:20250912T205427Z
LAST-MODIFIED:20250912T205429Z
UID:10000056-1779530400-1779534000@sladst1913.com
SUMMARY:Executive Board Meeting
DESCRIPTION:
URL:https://sladst1913.com/event/executive-board-meeting-2/2026-05-23/
LOCATION:Missouri
ATTACH;FMTTYPE=image/png:https://sladst1913.com/wp-content/uploads/2025/01/NewSLAlogo_Outline.png
END:VEVENT
END:VCALENDAR