BEGIN:VCALENDAR
VERSION:2.0
PRODID:-//Saint Louis Alumnae Chapter of Delta Sigma Theta Sorority, Inc. - ECPv6.15.20//NONSGML v1.0//EN
CALSCALE:GREGORIAN
METHOD:PUBLISH
X-ORIGINAL-URL:https://sladst1913.com
X-WR-CALDESC:Events for Saint Louis Alumnae Chapter of Delta Sigma Theta Sorority, Inc.
REFRESH-INTERVAL;VALUE=DURATION:PT1H
X-Robots-Tag:noindex
X-PUBLISHED-TTL:PT1H
BEGIN:VTIMEZONE
TZID:America/Chicago
BEGIN:DAYLIGHT
TZOFFSETFROM:-0600
TZOFFSETTO:-0500
TZNAME:CDT
DTSTART:20250309T080000
END:DAYLIGHT
BEGIN:STANDARD
TZOFFSETFROM:-0500
TZOFFSETTO:-0600
TZNAME:CST
DTSTART:20251102T070000
END:STANDARD
BEGIN:DAYLIGHT
TZOFFSETFROM:-0600
TZOFFSETTO:-0500
TZNAME:CDT
DTSTART:20260308T080000
END:DAYLIGHT
BEGIN:STANDARD
TZOFFSETFROM:-0500
TZOFFSETTO:-0600
TZNAME:CST
DTSTART:20261101T070000
END:STANDARD
BEGIN:DAYLIGHT
TZOFFSETFROM:-0600
TZOFFSETTO:-0500
TZNAME:CDT
DTSTART:20270314T080000
END:DAYLIGHT
BEGIN:STANDARD
TZOFFSETFROM:-0500
TZOFFSETTO:-0600
TZNAME:CST
DTSTART:20271107T070000
END:STANDARD
END:VTIMEZONE
BEGIN:VEVENT
DTSTART;TZID=America/Chicago:20260222T153000
DTEND;TZID=America/Chicago:20260222T190000
DTSTAMP:20260420T144546
CREATED:20250924T223146Z
LAST-MODIFIED:20260207T074732Z
UID:10000199-1771774200-1771786800@sladst1913.com
SUMMARY:House Party II: The 100 Charter Kick-Off Day Party!
DESCRIPTION:Where: RYSE Nightclub @ Ameristar Casino \n\n\n\nAttire: House Party Fly \n\n\n\nDJ Charlie Chan will be spinning all night!  \n\n\n\nFood will be served while supplies last.   \n\n\n\nMultiple TVs will be broadcasting games.  \n\n\n\nMust be 21+\, don’t miss out on the fun! \n\n\n\nhttps://bit.ly/CharterKickOff
URL:https://sladst1913.com/event/100th-celebration-kickoff/
LOCATION:RYSE Nightclub @ Ameristar Casino St. Charles\, 1 AMERISTAR BLVD\, SAINT CHARLES\, Missouri\, 63301
CATEGORIES:Featured Events
ATTACH;FMTTYPE=image/png:https://sladst1913.com/wp-content/uploads/2026/02/1000022143.png
END:VEVENT
BEGIN:VEVENT
DTSTART;TZID=America/Chicago:20260224T190000
DTEND;TZID=America/Chicago:20260224T203000
DTSTAMP:20260420T144546
CREATED:20260108T195404Z
LAST-MODIFIED:20260108T195924Z
UID:10000320-1771959600-1771965000@sladst1913.com
SUMMARY:The Greatest of These is Love! Central Region Founders Day Series
DESCRIPTION:We are pleased to announce the Central Region Founders Day Series\, “The Greatest of These is Love.” All of our esteemed Past National Presidents will bring us messages detailing how leading with love shaped their leadership decisions throughout their presidencies. We are also thrilled to announce that our International President and Chair\, Board of Directors\, Soror Cheryl W. Turner will bring our culminating message in the series. \n\n\n\nPlease join us for this series\, which will take place on select Tuesdays from January 2026 through March 2026. Please register for all of the sessions using the links below. \n\n\n\nJanuary 20\, 2026 – Cynthia M.A. Butler-McIntyre – REGISTERJanuary 27\, 2026 – Rev. Dr. Gwendolyn E. Boyd – REGISTERFebruary 10\, 2026 – Beverly E. Smith – REGISTERFebruary 17\, 2026 – Dr. Louise A. Rice – REGISTERFebruary 24\, 2026 – Hon. Marcia L. Fudge – REGISTERMarch 3\, 2026 – Elsie Cooke-Holmes – REGISTERMarch 10\, 2026 – Dr. Thelma T. Daley – REGISTERMarch 31\, 2026 – Cheryl W. Turner – REGISTER
URL:https://sladst1913.com/event/the-greatest-of-these-is-love-central-region-founders-day-series/2026-02-24/
LOCATION:Missouri
ATTACH;FMTTYPE=image/png:https://sladst1913.com/wp-content/uploads/2026/01/Greatest-of-these-is-Love-CR-series.png
END:VEVENT
BEGIN:VEVENT
DTSTART;TZID=America/Chicago:20260227T193000
DTEND;TZID=America/Chicago:20260227T220000
DTSTAMP:20260420T144546
CREATED:20250912T221832Z
LAST-MODIFIED:20250912T222121Z
UID:10000175-1772220600-1772229600@sladst1913.com
SUMMARY:A Night Out with St Louis Symphony IN UNISON Chorus Black History Month Celebration
DESCRIPTION:Limited tickets for sale.  First come. First served. \n\n\n\nPurchase tickets using link below.\nhttps://form.jotform.com/SLADST1913/ArtsandLetters
URL:https://sladst1913.com/event/a-night-out-with-st-louis-symphony-in-unison-chorus-black-history-month-celebration/
LOCATION:Powell Hall\, 718 N. Grand Blvd\, Saint Louis\, Missouri\, 63103
CATEGORIES:Arts & Letters
ATTACH;FMTTYPE=image/png:https://sladst1913.com/wp-content/uploads/2025/09/Arts-Black-History.png
ORGANIZER;CN="Arts & Letters":MAILTO:ArtsLetters.sladst@gmail.com
END:VEVENT
BEGIN:VEVENT
DTSTART;TZID=America/Chicago:20260228T100000
DTEND;TZID=America/Chicago:20260228T110000
DTSTAMP:20260420T144546
CREATED:20250912T205427Z
LAST-MODIFIED:20250912T205429Z
UID:10000053-1772272800-1772276400@sladst1913.com
SUMMARY:Executive Board Meeting
DESCRIPTION:
URL:https://sladst1913.com/event/executive-board-meeting-2/2026-02-28/
LOCATION:Missouri
ATTACH;FMTTYPE=image/png:https://sladst1913.com/wp-content/uploads/2025/01/NewSLAlogo_Outline.png
END:VEVENT
END:VCALENDAR