BEGIN:VCALENDAR
VERSION:2.0
PRODID:-//Saint Louis Alumnae Chapter of Delta Sigma Theta Sorority, Inc. - ECPv6.15.20//NONSGML v1.0//EN
CALSCALE:GREGORIAN
METHOD:PUBLISH
X-ORIGINAL-URL:https://sladst1913.com
X-WR-CALDESC:Events for Saint Louis Alumnae Chapter of Delta Sigma Theta Sorority, Inc.
REFRESH-INTERVAL;VALUE=DURATION:PT1H
X-Robots-Tag:noindex
X-PUBLISHED-TTL:PT1H
BEGIN:VTIMEZONE
TZID:America/Chicago
BEGIN:DAYLIGHT
TZOFFSETFROM:-0600
TZOFFSETTO:-0500
TZNAME:CDT
DTSTART:20240310T080000
END:DAYLIGHT
BEGIN:STANDARD
TZOFFSETFROM:-0500
TZOFFSETTO:-0600
TZNAME:CST
DTSTART:20241103T070000
END:STANDARD
BEGIN:DAYLIGHT
TZOFFSETFROM:-0600
TZOFFSETTO:-0500
TZNAME:CDT
DTSTART:20250309T080000
END:DAYLIGHT
BEGIN:STANDARD
TZOFFSETFROM:-0500
TZOFFSETTO:-0600
TZNAME:CST
DTSTART:20251102T070000
END:STANDARD
BEGIN:DAYLIGHT
TZOFFSETFROM:-0600
TZOFFSETTO:-0500
TZNAME:CDT
DTSTART:20260308T080000
END:DAYLIGHT
BEGIN:STANDARD
TZOFFSETFROM:-0500
TZOFFSETTO:-0600
TZNAME:CST
DTSTART:20261101T070000
END:STANDARD
END:VTIMEZONE
BEGIN:VEVENT
DTSTART;TZID=America/Chicago:20251118T000000
DTEND;TZID=America/Chicago:20251118T235959
DTSTAMP:20260420T211633
CREATED:20250924T221503Z
LAST-MODIFIED:20250924T221506Z
UID:10000189-1763424000-1763510399@sladst1913.com
SUMMARY:Social Action Delta Day at St Louis County
DESCRIPTION:
URL:https://sladst1913.com/event/social-action-delta-day-at-st-louis-county/
LOCATION:Missouri
ATTACH;FMTTYPE=image/jpeg:https://sladst1913.com/wp-content/uploads/2025/09/PlanIcon__99554878-scaled.jpeg
END:VEVENT
BEGIN:VEVENT
DTSTART;TZID=America/Chicago:20251122T100000
DTEND;TZID=America/Chicago:20251122T110000
DTSTAMP:20260420T211633
CREATED:20250912T205427Z
LAST-MODIFIED:20250912T205429Z
UID:10000050-1763805600-1763809200@sladst1913.com
SUMMARY:Executive Board Meeting
DESCRIPTION:
URL:https://sladst1913.com/event/executive-board-meeting-2/2025-11-22/
LOCATION:Missouri
ATTACH;FMTTYPE=image/png:https://sladst1913.com/wp-content/uploads/2025/01/NewSLAlogo_Outline.png
END:VEVENT
BEGIN:VEVENT
DTSTART;TZID=America/Chicago:20251122T130000
DTEND;TZID=America/Chicago:20251122T150000
DTSTAMP:20260420T211633
CREATED:20250924T221239Z
LAST-MODIFIED:20251031T222759Z
UID:10000187-1763816400-1763823600@sladst1913.com
SUMMARY:Social Security & Medicare Workshop
DESCRIPTION:Do you have questions about Medicare and Social Security Benefits? \n\n\n\nJoin us as Cathy Williams\, Licensed Benefit Specialist from Sunshine Senior Services shares valuable insights.  Register at the link below.  Sponsored by the Economic Development Committee \n\n\n\nhttps://form.jotform.com/SLADST1913/medicare
URL:https://sladst1913.com/event/economic-development-fortitude-workshop/
LOCATION:St. Charles County Library – Middendorf-Kredell Branch\, 2750 Highway K\, O'Fallon\, Missouri\, 63366
CATEGORIES:Featured Events
ATTACH;FMTTYPE=image/png:https://sladst1913.com/wp-content/uploads/2025/10/Medicare-Workshop-Economic-Development-.png
END:VEVENT
END:VCALENDAR