BEGIN:VCALENDAR
VERSION:2.0
PRODID:-//Saint Louis Alumnae Chapter of Delta Sigma Theta Sorority, Inc. - ECPv6.15.20//NONSGML v1.0//EN
CALSCALE:GREGORIAN
METHOD:PUBLISH
X-WR-CALNAME:Saint Louis Alumnae Chapter of Delta Sigma Theta Sorority, Inc.
X-ORIGINAL-URL:https://sladst1913.com
X-WR-CALDESC:Events for Saint Louis Alumnae Chapter of Delta Sigma Theta Sorority, Inc.
REFRESH-INTERVAL;VALUE=DURATION:PT1H
X-Robots-Tag:noindex
X-PUBLISHED-TTL:PT1H
BEGIN:VTIMEZONE
TZID:America/Chicago
BEGIN:DAYLIGHT
TZOFFSETFROM:-0600
TZOFFSETTO:-0500
TZNAME:CDT
DTSTART:20240310T080000
END:DAYLIGHT
BEGIN:STANDARD
TZOFFSETFROM:-0500
TZOFFSETTO:-0600
TZNAME:CST
DTSTART:20241103T070000
END:STANDARD
BEGIN:DAYLIGHT
TZOFFSETFROM:-0600
TZOFFSETTO:-0500
TZNAME:CDT
DTSTART:20250309T080000
END:DAYLIGHT
BEGIN:STANDARD
TZOFFSETFROM:-0500
TZOFFSETTO:-0600
TZNAME:CST
DTSTART:20251102T070000
END:STANDARD
BEGIN:DAYLIGHT
TZOFFSETFROM:-0600
TZOFFSETTO:-0500
TZNAME:CDT
DTSTART:20260308T080000
END:DAYLIGHT
BEGIN:STANDARD
TZOFFSETFROM:-0500
TZOFFSETTO:-0600
TZNAME:CST
DTSTART:20261101T070000
END:STANDARD
END:VTIMEZONE
BEGIN:VEVENT
DTSTART;TZID=America/Chicago:20251022T193000
DTEND;TZID=America/Chicago:20251022T223000
DTSTAMP:20260420T230614
CREATED:20251003T223713Z
LAST-MODIFIED:20251003T223715Z
UID:10000242-1761161400-1761172200@sladst1913.com
SUMMARY:Internal Audit-Fiscal Officers Meeting
DESCRIPTION:
URL:https://sladst1913.com/event/internal-audit-fiscal-officers-meeting/
LOCATION:Missouri
ATTACH;FMTTYPE=image/jpeg:https://sladst1913.com/wp-content/uploads/2025/09/PlanIcon__99554878-scaled.jpeg
END:VEVENT
BEGIN:VEVENT
DTSTART;TZID=America/Chicago:20251023T000000
DTEND;TZID=America/Chicago:20251023T235959
DTSTAMP:20260420T230614
CREATED:20251003T215200Z
LAST-MODIFIED:20251003T220720Z
UID:10000240-1761177600-1761263999@sladst1913.com
SUMMARY:Purple Thursday - Domestic Violence Awareness Month
DESCRIPTION:Wear purple for Domestic Violence Awareness Month.  Violets Against Violence.  Please wear purple to increase awareness of domestic\, spousal\, and teen dating violence.  Let’s shower social media with purple.  Post your pic & show your support.
URL:https://sladst1913.com/event/purple-thursday-domestic-violence-awareness-month/
LOCATION:Missouri
CATEGORIES:Featured Events
ATTACH;FMTTYPE=image/png:https://sladst1913.com/wp-content/uploads/2025/10/PMH-Domestic-Violence-1.png
END:VEVENT
BEGIN:VEVENT
DTSTART;TZID=America/Chicago:20251023T190000
DTEND;TZID=America/Chicago:20251023T200000
DTSTAMP:20260420T230614
CREATED:20251003T223256Z
LAST-MODIFIED:20251017T202547Z
UID:10000241-1761246000-1761249600@sladst1913.com
SUMMARY:Talk Time with Tracey
DESCRIPTION:Zoom information to follow
URL:https://sladst1913.com/event/talk-time-with-tracey/
LOCATION:Missouri
ATTACH;FMTTYPE=image/png:https://sladst1913.com/wp-content/uploads/2025/10/TalkTracey.png
END:VEVENT
BEGIN:VEVENT
DTSTART;TZID=America/Chicago:20251025T080000
DTEND;TZID=America/Chicago:20251025T130000
DTSTAMP:20260420T230614
CREATED:20250924T220436Z
LAST-MODIFIED:20251003T214515Z
UID:10000182-1761379200-1761397200@sladst1913.com
SUMMARY:Alzheimer's Walk
DESCRIPTION:DST/SLA Physical & Mental Health  \n\n\n\nJoin Team: Delta Sigma Theta Sorority – Saint Louis Alumnae
URL:https://sladst1913.com/event/alzheimers-walk/
LOCATION:Amphitheater and Central Park\, 631 Veterans Place Dr\, Saint Louis\, Missouri\, 63017
CATEGORIES:Featured Events
ATTACH;FMTTYPE=image/png:https://sladst1913.com/wp-content/uploads/2025/09/PMH-Walks.png
END:VEVENT
BEGIN:VEVENT
DTSTART;TZID=America/Chicago:20251025T100000
DTEND;TZID=America/Chicago:20251025T110000
DTSTAMP:20260420T230614
CREATED:20250912T205427Z
LAST-MODIFIED:20250912T205429Z
UID:10000049-1761386400-1761390000@sladst1913.com
SUMMARY:Executive Board Meeting
DESCRIPTION:
URL:https://sladst1913.com/event/executive-board-meeting-2/2025-10-25/
LOCATION:Missouri
ATTACH;FMTTYPE=image/png:https://sladst1913.com/wp-content/uploads/2025/01/NewSLAlogo_Outline.png
END:VEVENT
END:VCALENDAR