BEGIN:VCALENDAR
VERSION:2.0
PRODID:-//Saint Louis Alumnae Chapter of Delta Sigma Theta Sorority, Inc. - ECPv6.15.20//NONSGML v1.0//EN
CALSCALE:GREGORIAN
METHOD:PUBLISH
X-WR-CALNAME:Saint Louis Alumnae Chapter of Delta Sigma Theta Sorority, Inc.
X-ORIGINAL-URL:https://sladst1913.com
X-WR-CALDESC:Events for Saint Louis Alumnae Chapter of Delta Sigma Theta Sorority, Inc.
REFRESH-INTERVAL;VALUE=DURATION:PT1H
X-Robots-Tag:noindex
X-PUBLISHED-TTL:PT1H
BEGIN:VTIMEZONE
TZID:America/Chicago
BEGIN:DAYLIGHT
TZOFFSETFROM:-0600
TZOFFSETTO:-0500
TZNAME:CDT
DTSTART:20230312T080000
END:DAYLIGHT
BEGIN:STANDARD
TZOFFSETFROM:-0500
TZOFFSETTO:-0600
TZNAME:CST
DTSTART:20231105T070000
END:STANDARD
BEGIN:DAYLIGHT
TZOFFSETFROM:-0600
TZOFFSETTO:-0500
TZNAME:CDT
DTSTART:20240310T080000
END:DAYLIGHT
BEGIN:STANDARD
TZOFFSETFROM:-0500
TZOFFSETTO:-0600
TZNAME:CST
DTSTART:20241103T070000
END:STANDARD
BEGIN:DAYLIGHT
TZOFFSETFROM:-0600
TZOFFSETTO:-0500
TZNAME:CDT
DTSTART:20250309T080000
END:DAYLIGHT
BEGIN:STANDARD
TZOFFSETFROM:-0500
TZOFFSETTO:-0600
TZNAME:CST
DTSTART:20251102T070000
END:STANDARD
BEGIN:DAYLIGHT
TZOFFSETFROM:-0600
TZOFFSETTO:-0500
TZNAME:CDT
DTSTART:20260308T080000
END:DAYLIGHT
BEGIN:STANDARD
TZOFFSETFROM:-0500
TZOFFSETTO:-0600
TZNAME:CST
DTSTART:20261101T070000
END:STANDARD
END:VTIMEZONE
BEGIN:VEVENT
DTSTART;TZID=America/Chicago:20251004T080000
DTEND;TZID=America/Chicago:20251004T130000
DTSTAMP:20260420T175450
CREATED:20250924T215303Z
LAST-MODIFIED:20251003T220046Z
UID:10000177-1759564800-1759582800@sladst1913.com
SUMMARY:Sista Strut
DESCRIPTION:Together We Walk.  Together We Fight.  N. 15th & Chestnut\, St. Louis\, MO 63101  Rally @ 8:00am\, 9:00am Walk.  Join Team DST/SLA Physical & Mental Health Fit team.
URL:https://sladst1913.com/event/sista-strut/
CATEGORIES:Featured Events
ATTACH;FMTTYPE=image/png:https://sladst1913.com/wp-content/uploads/2025/10/PMH-Sista-Strut-2025-1st-VP-SLADST.png
END:VEVENT
BEGIN:VEVENT
DTSTART;TZID=America/Chicago:20251001T183000
DTEND;TZID=America/Chicago:20251001T200000
DTSTAMP:20260420T175450
CREATED:20250912T210633Z
LAST-MODIFIED:20250912T210639Z
UID:10000108-1759343400-1759348800@sladst1913.com
SUMMARY:Parliamentary Study Group
DESCRIPTION:Are you interested in holding a leadership position and/or would you like to learn more about chapter operations? Participate in the Parliamentary Study Group (PSG). \n\n\n\n via 👉🏽  Zoom. \n\n\n\nQuestions? Want to sign-up for PSG? \n\n\n\nContact Parliamentarian Glenise Cloudy at \n\n\n\n314-629-9153. \n\n\n\nBecome an informed member!
URL:https://sladst1913.com/event/parliamentary-study-group-3/2025-10-01/
ATTACH;FMTTYPE=image/png:https://sladst1913.com/wp-content/uploads/2024/10/Parliamentarian-SLA-v2.png
END:VEVENT
BEGIN:VEVENT
DTSTART;TZID=America/Chicago:20250927T100000
DTEND;TZID=America/Chicago:20250927T110000
DTSTAMP:20260420T175450
CREATED:20250912T205427Z
LAST-MODIFIED:20250912T205429Z
UID:10000048-1758967200-1758970800@sladst1913.com
SUMMARY:Executive Board Meeting
DESCRIPTION:
URL:https://sladst1913.com/event/executive-board-meeting-2/2025-09-27/
ATTACH;FMTTYPE=image/png:https://sladst1913.com/wp-content/uploads/2025/01/NewSLAlogo_Outline.png
END:VEVENT
BEGIN:VEVENT
DTSTART;TZID=America/Chicago:20250927T000000
DTEND;TZID=America/Chicago:20250927T235959
DTSTAMP:20260420T175450
CREATED:20250924T215107Z
LAST-MODIFIED:20250925T171020Z
UID:10000176-1758931200-1759017599@sladst1913.com
SUMMARY:R&R/Project A.C.E. Welcome Back Packs
DESCRIPTION:Strategic calendar event
URL:https://sladst1913.com/event/rr-project-a-c-e-welcome-back-packs/
ATTACH;FMTTYPE=image/jpeg:https://sladst1913.com/wp-content/uploads/2025/09/PlanIcon__99554878-scaled.jpeg
END:VEVENT
BEGIN:VEVENT
DTSTART;TZID=America/Chicago:20250917T190000
DTEND;TZID=America/Chicago:20250917T200000
DTSTAMP:20260420T175450
CREATED:20250912T203503Z
LAST-MODIFIED:20250912T203719Z
UID:10000044-1758135600-1758139200@sladst1913.com
SUMMARY:Risk Management Training
DESCRIPTION:9/17 Zoom Registration: https://us06web.zoom.us/meeting/register/ijr5n0CIR7ShKYYQktQJyQ\n\n\n\n\nA11 Form\nA11 form link:  https://form.jotform.com/SLADST1913/RM-A11
URL:https://sladst1913.com/event/risk-management-training-2/
CATEGORIES:PP&D
ATTACH;FMTTYPE=image/webp:https://sladst1913.com/wp-content/uploads/2024/09/Image20240909183440.webp
END:VEVENT
BEGIN:VEVENT
DTSTART;TZID=America/Chicago:20250914T093000
DTEND;TZID=America/Chicago:20250914T130000
DTSTAMP:20260420T175450
CREATED:20250912T195537Z
LAST-MODIFIED:20250912T195541Z
UID:10000043-1757842200-1757854800@sladst1913.com
SUMMARY:Fall Retreat Ecumenical Service
DESCRIPTION:Attire: Delta Red
URL:https://sladst1913.com/event/fall-retreat-ecumenical-service/
LOCATION:First Baptist Church of Chesterfield\, 17103 Wild Horse Creek Rd.\, Chesterfield\, MO\, 63005\, United States
ATTACH;FMTTYPE=image/jpeg:https://sladst1913.com/wp-content/uploads/2025/09/Fall-Retreat-25-Ecumenical.jpg
ORGANIZER;CN="Tracey Carter%2C President":MAILTO:president.sladst@gmail.com
END:VEVENT
BEGIN:VEVENT
DTSTART;TZID=America/Chicago:20250913T083000
DTEND;TZID=America/Chicago:20250913T150000
DTSTAMP:20260420T175450
CREATED:20250912T204426Z
LAST-MODIFIED:20250912T204431Z
UID:10000047-1757752200-1757775600@sladst1913.com
SUMMARY:Diaper Drive - Hosted by Community Awareness & Involvement
DESCRIPTION:Collections will be taken at the Fall Retreat or purchased via Amazon at the link below until September 17th \n\n\n\nhttps://www.amazon.com/registries/gl/guest-view/7J46ZY89N1SJ?ref_=cm_sw_r_em_ud_ggr-subnav-share_D1PZST7T36BH3GM7AFFD
URL:https://sladst1913.com/event/diaper-drive-hosted-by-community-awareness-involvement/
ATTACH;FMTTYPE=image/png:https://sladst1913.com/wp-content/uploads/2025/09/Diaper-Drive-Donation-2025.png
END:VEVENT
BEGIN:VEVENT
DTSTART;TZID=America/Chicago:20250913T083000
DTEND;TZID=America/Chicago:20250913T150000
DTSTAMP:20260420T175450
CREATED:20250912T160217Z
LAST-MODIFIED:20250912T160222Z
UID:10000040-1757752200-1757775600@sladst1913.com
SUMMARY:Saint Louis Alumnae Fall Retreat
DESCRIPTION:Come one\, come all Sorors!  Join Saint Louis Alumnae for our annual Fall Retreat.  Register at the following link: https://form.jotform.com/SLADST1913/Retreat2025
URL:https://sladst1913.com/event/saint-louis-alumnae-fall-retreat/
LOCATION:Marriott St. Louis Airport\, 10700 Pear Tree Lane\, Saint Louis\, MO\, 63134\, United States
CATEGORIES:Featured Events
ATTACH;FMTTYPE=image/jpeg:https://sladst1913.com/wp-content/uploads/2025/09/Fall-Retreat-25-Flyer.jpg
END:VEVENT
BEGIN:VEVENT
DTSTART;TZID=America/Chicago:20250616T180000
DTEND;TZID=America/Chicago:20250616T193000
DTSTAMP:20260420T175450
CREATED:20250613T233937Z
LAST-MODIFIED:20250613T234303Z
UID:10000039-1750096800-1750102200@sladst1913.com
SUMMARY:Test Exec Board Meeting
DESCRIPTION:Exec Board mtg
URL:https://sladst1913.com/event/test-exec-board-meeting/
ORGANIZER;CN="Tracey Carter%2C President":MAILTO:president.sladst@gmail.com
LOCATION:https://us02web.zoom.us/j/87308768240?pwd=XJXP0NlpPBwSbiG9SaSY72GgZ3nMPr.1
END:VEVENT
BEGIN:VEVENT
DTSTART;TZID=America/Chicago:20250614T120000
DTEND;TZID=America/Chicago:20250614T150000
DTSTAMP:20260420T175450
CREATED:20250521T001624Z
LAST-MODIFIED:20250614T000324Z
UID:10000038-1749902400-1749913200@sladst1913.com
SUMMARY:Test Event with Assigned Seating
DESCRIPTION:Test Event with Assigned seating for VIP’s\, General Admission and Wheelchair Accessible
URL:https://sladst1913.com/event/test-event-with-assigned-seating/
LOCATION:Marriott St. Louis Airport\, 10700 Pear Tree Lane\, Saint Louis\, MO\, 63134\, United States
CATEGORIES:Featured Events
ATTACH;FMTTYPE=image/jpeg:https://sladst1913.com/wp-content/uploads/2025/05/3-20-Updated-DST-June-Luncheon-Save-the-Date-scaled.jpg
ORGANIZER;CN="Tracey Carter%2C President":MAILTO:president.sladst@gmail.com
END:VEVENT
BEGIN:VEVENT
DTSTART;TZID=America/Chicago:20250607T130000
DTEND;TZID=America/Chicago:20250607T150000
DTSTAMP:20260420T175450
CREATED:20250519T170017Z
LAST-MODIFIED:20250912T211705Z
UID:10000016-1749301200-1749308400@sladst1913.com
SUMMARY:SLA Chapter Meeting
DESCRIPTION:Monthly Meeting of the Sorors of the Saint Louis Alumnae chapter of Delta Sigma Theta Sorority\, Inc.
URL:https://sladst1913.com/event/sla-chapter-meeting-2/2025-06-07/
LOCATION:Carr Lane VPA Middle School\, 1004 N. Jefferson\, Saint Louis\, MO\, 63106\, United States
CATEGORIES:Chapter Meeting
ATTACH;FMTTYPE=image/png:https://sladst1913.com/wp-content/uploads/2025/01/NewSLAlogo_Outline.png
ORGANIZER;CN="Tracey Carter%2C President":MAILTO:president.sladst@gmail.com
END:VEVENT
BEGIN:VEVENT
DTSTART;TZID=America/Chicago:20250607T110000
DTEND;TZID=America/Chicago:20250607T160000
DTSTAMP:20260420T175450
CREATED:20250519T224609Z
LAST-MODIFIED:20250521T000533Z
UID:10000037-1749294000-1749312000@sladst1913.com
SUMMARY:2025 June Luncheon & Chapter Meeting
DESCRIPTION:Welcome to our final event for the Sorority program year\, our June Luncheon!
URL:https://sladst1913.com/event/2025-june-luncheon-chapter-meeting/
LOCATION:Marriott St. Louis\, West\, 660 Maryville Centre Dr.\, St. Louis\, MO\, 63141\, United States
CATEGORIES:Chapter Meeting
ATTACH;FMTTYPE=image/jpeg:https://sladst1913.com/wp-content/uploads/2025/05/3-20-Updated-DST-June-Luncheon-Save-the-Date-scaled.jpg
ORGANIZER;CN="Tracey Carter%2C President":MAILTO:president.sladst@gmail.com
END:VEVENT
BEGIN:VEVENT
DTSTART;TZID=America/Chicago:20250503T130000
DTEND;TZID=America/Chicago:20250503T150000
DTSTAMP:20260420T175450
CREATED:20241026T110823Z
LAST-MODIFIED:20241026T110823Z
UID:10000015-1746277200-1746284400@sladst1913.com
SUMMARY:SLA Chapter Meeting
DESCRIPTION:Monthly Meeting of the Sorors of the Saint Louis Alumnae chapter of Delta Sigma Theta Sorority\, Inc.
URL:https://sladst1913.com/event/sla-chapter-meeting/2025-05-03/
LOCATION:Carr Lane VPA Middle School\, 1004 N. Jefferson\, Saint Louis\, MO\, 63106\, United States
CATEGORIES:Chapter Meeting
ATTACH;FMTTYPE=image/png:https://sladst1913.com/wp-content/uploads/2024/08/SLADST_Logo-1.png
ORGANIZER;CN="Tracey Carter%2C President":MAILTO:president.sladst@gmail.com
END:VEVENT
BEGIN:VEVENT
DTSTART;TZID=America/Chicago:20250426T100000
DTEND;TZID=America/Chicago:20250426T120000
DTSTAMP:20260420T175450
CREATED:20241026T120902Z
LAST-MODIFIED:20241026T120902Z
UID:10000028-1745661600-1745668800@sladst1913.com
SUMMARY:Executive Board Meeting
DESCRIPTION:
URL:https://sladst1913.com/event/executive-board-meeting/2025-04-26/
ATTACH;FMTTYPE=image/png:https://sladst1913.com/wp-content/uploads/2024/10/SLA-Logo-Small-20241025.png
ORGANIZER;CN="Tracey Carter%2C President":MAILTO:president.sladst@gmail.com
LOCATION:https://sladst1913.com/event/executive-board-meeting/2025-04-26/
END:VEVENT
BEGIN:VEVENT
DTSTART;TZID=America/Chicago:20250405T130000
DTEND;TZID=America/Chicago:20250405T150000
DTSTAMP:20260420T175450
CREATED:20241026T110823Z
LAST-MODIFIED:20241026T110823Z
UID:10000014-1743858000-1743865200@sladst1913.com
SUMMARY:SLA Chapter Meeting
DESCRIPTION:Monthly Meeting of the Sorors of the Saint Louis Alumnae chapter of Delta Sigma Theta Sorority\, Inc.
URL:https://sladst1913.com/event/sla-chapter-meeting/2025-04-05/
LOCATION:Carr Lane VPA Middle School\, 1004 N. Jefferson\, Saint Louis\, MO\, 63106\, United States
CATEGORIES:Chapter Meeting
ATTACH;FMTTYPE=image/png:https://sladst1913.com/wp-content/uploads/2024/08/SLADST_Logo-1.png
ORGANIZER;CN="Tracey Carter%2C President":MAILTO:president.sladst@gmail.com
END:VEVENT
BEGIN:VEVENT
DTSTART;TZID=America/Chicago:20250322T100000
DTEND;TZID=America/Chicago:20250322T120000
DTSTAMP:20260420T175450
CREATED:20241026T120902Z
LAST-MODIFIED:20241026T120902Z
UID:10000027-1742637600-1742644800@sladst1913.com
SUMMARY:Executive Board Meeting
DESCRIPTION:
URL:https://sladst1913.com/event/executive-board-meeting/2025-03-22/
ATTACH;FMTTYPE=image/png:https://sladst1913.com/wp-content/uploads/2024/10/SLA-Logo-Small-20241025.png
ORGANIZER;CN="Tracey Carter%2C President":MAILTO:president.sladst@gmail.com
LOCATION:https://sladst1913.com/event/executive-board-meeting/2025-03-22/
END:VEVENT
BEGIN:VEVENT
DTSTART;TZID=America/Chicago:20250301T130000
DTEND;TZID=America/Chicago:20250301T150000
DTSTAMP:20260420T175450
CREATED:20241026T110823Z
LAST-MODIFIED:20241026T110823Z
UID:10000013-1740834000-1740841200@sladst1913.com
SUMMARY:SLA Chapter Meeting
DESCRIPTION:Monthly Meeting of the Sorors of the Saint Louis Alumnae chapter of Delta Sigma Theta Sorority\, Inc.
URL:https://sladst1913.com/event/sla-chapter-meeting/2025-03-01/
LOCATION:Carr Lane VPA Middle School\, 1004 N. Jefferson\, Saint Louis\, MO\, 63106\, United States
CATEGORIES:Chapter Meeting
ATTACH;FMTTYPE=image/png:https://sladst1913.com/wp-content/uploads/2024/08/SLADST_Logo-1.png
ORGANIZER;CN="Tracey Carter%2C President":MAILTO:president.sladst@gmail.com
END:VEVENT
BEGIN:VEVENT
DTSTART;TZID=America/Chicago:20250222T110000
DTEND;TZID=America/Chicago:20250222T170000
DTSTAMP:20260420T175450
CREATED:20241026T131741Z
LAST-MODIFIED:20241026T131741Z
UID:10000035-1740222000-1740243600@sladst1913.com
SUMMARY:2025 Founders Day Celebration
DESCRIPTION:2025 Founders Day Celebration \nFebruary 22\, 2025 \nSt. Charles Convention Center \n11:00 AM (Doors open at 10:15 AM) \nAttire: Black\, white\, red\, or any combination of the colors \nSorors let’s come together to celebrate the vision of our 22 Founders at the 2025 St. Louis Alumnae Founders Day Celebration. This year’s theme is REaDiness is Why Our Sisterhood Stands Strong! \nCost: $110 ($4.33 PayPal fees) \n◾Seating is ten (10) people per table. \n◾Table assignments will be made on a first-come\, first-served basis after confirmation by the financial secretary. \n◾Everyone must be listed on a reservation form and paid in full to reserve a seat. \nDeadline: Ticket sales will close Saturday\, February 1\, 2025 \nQuestions about Founders Day\, Milestone or Delta DEAR recognitions? \nContact the Founders Day Co-Chairs \nFelicia C. Echols (314) 616-8047 \nStacy Harmon (314) 704-0863
URL:https://sladst1913.com/event/2025-founders-day-celebration/
LOCATION:Members Only\, 1 Convention Center Plaza\, St. Charles\, MO\, 63303\, United States
ATTACH;FMTTYPE=image/png:https://sladst1913.com/wp-content/uploads/2024/10/FounderSavetheDate.png
END:VEVENT
BEGIN:VEVENT
DTSTART;TZID=America/Chicago:20250222T100000
DTEND;TZID=America/Chicago:20250222T120000
DTSTAMP:20260420T175450
CREATED:20241026T120902Z
LAST-MODIFIED:20241026T120902Z
UID:10000026-1740218400-1740225600@sladst1913.com
SUMMARY:Executive Board Meeting
DESCRIPTION:
URL:https://sladst1913.com/event/executive-board-meeting/2025-02-22/
ATTACH;FMTTYPE=image/png:https://sladst1913.com/wp-content/uploads/2024/10/SLA-Logo-Small-20241025.png
ORGANIZER;CN="Tracey Carter%2C President":MAILTO:president.sladst@gmail.com
LOCATION:https://sladst1913.com/event/executive-board-meeting/2025-02-22/
END:VEVENT
BEGIN:VEVENT
DTSTART;TZID=America/Chicago:20250201T130000
DTEND;TZID=America/Chicago:20250201T150000
DTSTAMP:20260420T175450
CREATED:20241026T110823Z
LAST-MODIFIED:20241026T110823Z
UID:10000012-1738414800-1738422000@sladst1913.com
SUMMARY:SLA Chapter Meeting
DESCRIPTION:Monthly Meeting of the Sorors of the Saint Louis Alumnae chapter of Delta Sigma Theta Sorority\, Inc.
URL:https://sladst1913.com/event/sla-chapter-meeting/2025-02-01/
LOCATION:Carr Lane VPA Middle School\, 1004 N. Jefferson\, Saint Louis\, MO\, 63106\, United States
CATEGORIES:Chapter Meeting
ATTACH;FMTTYPE=image/png:https://sladst1913.com/wp-content/uploads/2024/08/SLADST_Logo-1.png
ORGANIZER;CN="Tracey Carter%2C President":MAILTO:president.sladst@gmail.com
END:VEVENT
BEGIN:VEVENT
DTSTART;TZID=America/Chicago:20250125T100000
DTEND;TZID=America/Chicago:20250125T120000
DTSTAMP:20260420T175450
CREATED:20241026T120902Z
LAST-MODIFIED:20241026T120902Z
UID:10000025-1737799200-1737806400@sladst1913.com
SUMMARY:Executive Board Meeting
DESCRIPTION:
URL:https://sladst1913.com/event/executive-board-meeting/2025-01-25/
ATTACH;FMTTYPE=image/png:https://sladst1913.com/wp-content/uploads/2024/10/SLA-Logo-Small-20241025.png
ORGANIZER;CN="Tracey Carter%2C President":MAILTO:president.sladst@gmail.com
LOCATION:https://sladst1913.com/event/executive-board-meeting/2025-01-25/
END:VEVENT
BEGIN:VEVENT
DTSTART;VALUE=DATE:20250111
DTEND;VALUE=DATE:20250112
DTSTAMP:20260420T175450
CREATED:20241026T125049Z
LAST-MODIFIED:20241026T125049Z
UID:10000033-1736553600-1736639999@sladst1913.com
SUMMARY:SLA J13 Celebration
DESCRIPTION:Join Us in our Annual Celebration of who we are and what we do for the community!  You don’t want to miss this!!!!
URL:https://sladst1913.com/event/sla-j13-celebration/
ATTACH;FMTTYPE=image/png:https://sladst1913.com/wp-content/uploads/2024/10/Save-the-Date-for-Jan-11-President-DSTSLA.png
END:VEVENT
BEGIN:VEVENT
DTSTART;TZID=America/Chicago:20250104T130000
DTEND;TZID=America/Chicago:20250104T150000
DTSTAMP:20260420T175450
CREATED:20241026T110823Z
LAST-MODIFIED:20241026T110823Z
UID:10000011-1735995600-1736002800@sladst1913.com
SUMMARY:SLA Chapter Meeting
DESCRIPTION:Monthly Meeting of the Sorors of the Saint Louis Alumnae chapter of Delta Sigma Theta Sorority\, Inc.
URL:https://sladst1913.com/event/sla-chapter-meeting/2025-01-04/
LOCATION:Carr Lane VPA Middle School\, 1004 N. Jefferson\, Saint Louis\, MO\, 63106\, United States
CATEGORIES:Chapter Meeting
ATTACH;FMTTYPE=image/png:https://sladst1913.com/wp-content/uploads/2024/08/SLADST_Logo-1.png
ORGANIZER;CN="Tracey Carter%2C President":MAILTO:president.sladst@gmail.com
END:VEVENT
BEGIN:VEVENT
DTSTART;TZID=America/Chicago:20241228T100000
DTEND;TZID=America/Chicago:20241228T120000
DTSTAMP:20260420T175450
CREATED:20241026T120902Z
LAST-MODIFIED:20241026T120902Z
UID:10000024-1735380000-1735387200@sladst1913.com
SUMMARY:Executive Board Meeting
DESCRIPTION:
URL:https://sladst1913.com/event/executive-board-meeting/2024-12-28/
ATTACH;FMTTYPE=image/png:https://sladst1913.com/wp-content/uploads/2024/10/SLA-Logo-Small-20241025.png
ORGANIZER;CN="Tracey Carter%2C President":MAILTO:president.sladst@gmail.com
LOCATION:https://sladst1913.com/event/executive-board-meeting/2024-12-28/
END:VEVENT
BEGIN:VEVENT
DTSTART;TZID=America/Chicago:20241214T090000
DTEND;TZID=America/Chicago:20241214T120000
DTSTAMP:20260420T175450
CREATED:20241026T130009Z
LAST-MODIFIED:20241026T130009Z
UID:10000034-1734166800-1734177600@sladst1913.com
SUMMARY:Breakfast With Santa
DESCRIPTION:Saturday\, December 4\, 2024 \n9:00 AM – 12:00 PM \nCarr Lane VPA Middle School \n1004 N Jefferson Ave \nSt. Louis\, MO 63106 \nCountdown to Breakfast with Santa \nHave you made your donation? \n\n\n\n\n\n\n\n\n\n\n\n\n\n\n\nCheck out the flyer and information below to \nhelp us reach our goal of serving 500 children and their families this holiday season! \n👉🏽BWS Amazon Wishlist \n🎁Amazon purchases should be made by December 2nd to ensure timely delivery. \n🎁All purchases will be automatically shipped to a BWS Chair. \n🎁ALL TOY PURCHASES SHOULD BE RECEIVED BY SATURDAY\, DECEMBER 7\, 2024. \n  \nSorors\, thank you for your continued support\, \nTonya\, Paula & Rega
URL:https://sladst1913.com/event/breakfast-with-santa/
LOCATION:Carr Lane VPA Middle School\, 1004 N. Jefferson\, Saint Louis\, MO\, 63106\, United States
CATEGORIES:PP&D
ATTACH;FMTTYPE=application/pdf:https://sladst1913.com/wp-content/uploads/2024/10/Breakfast-W-Santa-Chapter-Flyer-2024-B.pdf
END:VEVENT
BEGIN:VEVENT
DTSTART;TZID=America/Chicago:20241213T193000
DTEND;TZID=America/Chicago:20241213T220000
DTSTAMP:20260420T175450
CREATED:20241026T124648Z
LAST-MODIFIED:20241026T124648Z
UID:10000032-1734118200-1734127200@sladst1913.com
SUMMARY:IN UNISON Christmas with Take 6
DESCRIPTION:IN UNISON Christmas with Take 6\nDecember 13\, 2024 \nStifel Theatre \nArts & Letters Committee invites you to ring in the holidays with Take 6 alongside the St. Louis Symphony Orchestra and the IN UNISON Chorus. \nCost: $38.50 (+service fee) \nLimited tickets are available now! \nPurchase tickets online or in person at the November and December chapter meetings.
URL:https://sladst1913.com/event/in-unison-christmas-with-take-6/
LOCATION:Members Only\, 1400 Market St.\, St. Louis\, MO\, 63103\, United States
CATEGORIES:Arts & Letters
ATTACH;FMTTYPE=application/pdf:https://sladst1913.com/wp-content/uploads/2024/10/Arts-and-Letters-Christmas-Symphony-2024-President-DSTSLA.pdf
ORGANIZER;CN="Arts & Letters":MAILTO:ArtsLetters.sladst@gmail.com
END:VEVENT
BEGIN:VEVENT
DTSTART;TZID=America/Chicago:20241208T140000
DTEND;TZID=America/Chicago:20241208T160000
DTSTAMP:20260420T175450
CREATED:20241026T123827Z
LAST-MODIFIED:20241026T123827Z
UID:10000031-1733666400-1733673600@sladst1913.com
SUMMARY:Holiday Social
DESCRIPTION:Come feed your spirit and celebrate the season and sisterhood with your sorors! \nJoin us for fellowship and fun during our Holiday Social! Enjoy a holiday-themed afternoon of games\, prizes\, and delicious appetizer and sweets. Admission is free\, but you must register to attend. Seating is Limited! \nRegistration deadline: Friday\, November 29th or until capacity is reached.
URL:https://sladst1913.com/event/holiday-social/
LOCATION:Members Only\, 3050 Olive St.\, St. Louis\, MO\, 63130\, United States
ATTACH;FMTTYPE=image/png:https://sladst1913.com/wp-content/uploads/2024/10/5958803439381578075.png
ORGANIZER;CN="Reclamation & Retention":MAILTO:randr.sladst@gmail.com
END:VEVENT
BEGIN:VEVENT
DTSTART;TZID=America/Chicago:20241207T130000
DTEND;TZID=America/Chicago:20241207T150000
DTSTAMP:20260420T175450
CREATED:20241026T110823Z
LAST-MODIFIED:20241026T110823Z
UID:10000010-1733576400-1733583600@sladst1913.com
SUMMARY:SLA Chapter Meeting
DESCRIPTION:Monthly Meeting of the Sorors of the Saint Louis Alumnae chapter of Delta Sigma Theta Sorority\, Inc.
URL:https://sladst1913.com/event/sla-chapter-meeting/2024-12-07/
LOCATION:Carr Lane VPA Middle School\, 1004 N. Jefferson\, Saint Louis\, MO\, 63106\, United States
CATEGORIES:Chapter Meeting
ATTACH;FMTTYPE=image/png:https://sladst1913.com/wp-content/uploads/2024/08/SLADST_Logo-1.png
ORGANIZER;CN="Tracey Carter%2C President":MAILTO:president.sladst@gmail.com
END:VEVENT
BEGIN:VEVENT
DTSTART;TZID=America/Chicago:20241204T190000
DTEND;TZID=America/Chicago:20241204T203000
DTSTAMP:20260420T175450
CREATED:20241026T122653Z
LAST-MODIFIED:20241026T132136Z
UID:10000030-1733338800-1733344200@sladst1913.com
SUMMARY:Parliamentary Study Group
DESCRIPTION:
URL:https://sladst1913.com/event/parliamentary-study-group-2/
ATTACH;FMTTYPE=image/png:https://sladst1913.com/wp-content/uploads/2024/10/Parliamentarian-SLA-v2.png
ORGANIZER;CN="Glenise Cloudy%2C Parliamentarian":MAILTO:gallisonDST7@gmail.com
LOCATION:https://sladst1913.com/event/parliamentary-study-group-2/
END:VEVENT
BEGIN:VEVENT
DTSTART;TZID=America/Chicago:20241123T100000
DTEND;TZID=America/Chicago:20241123T120000
DTSTAMP:20260420T175450
CREATED:20241026T120902Z
LAST-MODIFIED:20241026T120902Z
UID:10000023-1732356000-1732363200@sladst1913.com
SUMMARY:Executive Board Meeting
DESCRIPTION:
URL:https://sladst1913.com/event/executive-board-meeting/2024-11-23/
ATTACH;FMTTYPE=image/png:https://sladst1913.com/wp-content/uploads/2024/10/SLA-Logo-Small-20241025.png
ORGANIZER;CN="Tracey Carter%2C President":MAILTO:president.sladst@gmail.com
LOCATION:https://sladst1913.com/event/executive-board-meeting/2024-11-23/
END:VEVENT
END:VCALENDAR