BEGIN:VCALENDAR
VERSION:2.0
PRODID:-//Saint Louis Alumnae Chapter of Delta Sigma Theta Sorority, Inc. - ECPv6.15.20//NONSGML v1.0//EN
CALSCALE:GREGORIAN
METHOD:PUBLISH
X-ORIGINAL-URL:https://sladst1913.com
X-WR-CALDESC:Events for Saint Louis Alumnae Chapter of Delta Sigma Theta Sorority, Inc.
REFRESH-INTERVAL;VALUE=DURATION:PT1H
X-Robots-Tag:noindex
X-PUBLISHED-TTL:PT1H
BEGIN:VTIMEZONE
TZID:America/Chicago
BEGIN:DAYLIGHT
TZOFFSETFROM:-0600
TZOFFSETTO:-0500
TZNAME:CDT
DTSTART:20270314T080000
END:DAYLIGHT
BEGIN:STANDARD
TZOFFSETFROM:-0500
TZOFFSETTO:-0600
TZNAME:CST
DTSTART:20271107T070000
END:STANDARD
BEGIN:DAYLIGHT
TZOFFSETFROM:-0600
TZOFFSETTO:-0500
TZNAME:CDT
DTSTART:20280312T080000
END:DAYLIGHT
BEGIN:STANDARD
TZOFFSETFROM:-0500
TZOFFSETTO:-0600
TZNAME:CST
DTSTART:20281105T070000
END:STANDARD
BEGIN:DAYLIGHT
TZOFFSETFROM:-0600
TZOFFSETTO:-0500
TZNAME:CDT
DTSTART:20290311T080000
END:DAYLIGHT
BEGIN:STANDARD
TZOFFSETFROM:-0500
TZOFFSETTO:-0600
TZNAME:CST
DTSTART:20291104T070000
END:STANDARD
BEGIN:DAYLIGHT
TZOFFSETFROM:-0600
TZOFFSETTO:-0500
TZNAME:CDT
DTSTART:20300310T080000
END:DAYLIGHT
BEGIN:STANDARD
TZOFFSETFROM:-0500
TZOFFSETTO:-0600
TZNAME:CST
DTSTART:20301103T070000
END:STANDARD
END:VTIMEZONE
BEGIN:VEVENT
DTSTART;TZID=America/Chicago:20280101T130000
DTEND;TZID=America/Chicago:20280101T150000
DTSTAMP:20260420T151506
CREATED:20250519T170017Z
LAST-MODIFIED:20250912T211705Z
UID:10000141-1830344400-1830351600@sladst1913.com
SUMMARY:SLA Chapter Meeting
DESCRIPTION:Monthly Meeting of the Sorors of the Saint Louis Alumnae chapter of Delta Sigma Theta Sorority\, Inc.
URL:https://sladst1913.com/event/sla-chapter-meeting-2/2028-01-01/
LOCATION:Carr Lane VPA Middle School\, 1004 N. Jefferson\, Saint Louis\, MO\, 63106\, United States
CATEGORIES:Chapter Meeting
ATTACH;FMTTYPE=image/png:https://sladst1913.com/wp-content/uploads/2025/01/NewSLAlogo_Outline.png
ORGANIZER;CN="Tracey Carter%2C President":MAILTO:president.sladst@gmail.com
END:VEVENT
BEGIN:VEVENT
DTSTART;TZID=America/Chicago:20280122T100000
DTEND;TZID=America/Chicago:20280122T110000
DTSTAMP:20260420T151506
CREATED:20250912T205427Z
LAST-MODIFIED:20250912T205429Z
UID:10000076-1832148000-1832151600@sladst1913.com
SUMMARY:Executive Board Meeting
DESCRIPTION:
URL:https://sladst1913.com/event/executive-board-meeting-2/2028-01-22/
ATTACH;FMTTYPE=image/png:https://sladst1913.com/wp-content/uploads/2025/01/NewSLAlogo_Outline.png
END:VEVENT
BEGIN:VEVENT
DTSTART;TZID=America/Chicago:20280205T130000
DTEND;TZID=America/Chicago:20280205T150000
DTSTAMP:20260420T151506
CREATED:20250519T170017Z
LAST-MODIFIED:20250912T211705Z
UID:10000142-1833368400-1833375600@sladst1913.com
SUMMARY:SLA Chapter Meeting
DESCRIPTION:Monthly Meeting of the Sorors of the Saint Louis Alumnae chapter of Delta Sigma Theta Sorority\, Inc.
URL:https://sladst1913.com/event/sla-chapter-meeting-2/2028-02-05/
LOCATION:Carr Lane VPA Middle School\, 1004 N. Jefferson\, Saint Louis\, MO\, 63106\, United States
CATEGORIES:Chapter Meeting
ATTACH;FMTTYPE=image/png:https://sladst1913.com/wp-content/uploads/2025/01/NewSLAlogo_Outline.png
ORGANIZER;CN="Tracey Carter%2C President":MAILTO:president.sladst@gmail.com
END:VEVENT
BEGIN:VEVENT
DTSTART;TZID=America/Chicago:20280226T100000
DTEND;TZID=America/Chicago:20280226T110000
DTSTAMP:20260420T151506
CREATED:20250912T205427Z
LAST-MODIFIED:20250912T205429Z
UID:10000077-1835172000-1835175600@sladst1913.com
SUMMARY:Executive Board Meeting
DESCRIPTION:
URL:https://sladst1913.com/event/executive-board-meeting-2/2028-02-26/
ATTACH;FMTTYPE=image/png:https://sladst1913.com/wp-content/uploads/2025/01/NewSLAlogo_Outline.png
END:VEVENT
BEGIN:VEVENT
DTSTART;TZID=America/Chicago:20280304T130000
DTEND;TZID=America/Chicago:20280304T150000
DTSTAMP:20260420T151506
CREATED:20250519T170017Z
LAST-MODIFIED:20250912T211705Z
UID:10000143-1835787600-1835794800@sladst1913.com
SUMMARY:SLA Chapter Meeting
DESCRIPTION:Monthly Meeting of the Sorors of the Saint Louis Alumnae chapter of Delta Sigma Theta Sorority\, Inc.
URL:https://sladst1913.com/event/sla-chapter-meeting-2/2028-03-04/
LOCATION:Carr Lane VPA Middle School\, 1004 N. Jefferson\, Saint Louis\, MO\, 63106\, United States
CATEGORIES:Chapter Meeting
ATTACH;FMTTYPE=image/png:https://sladst1913.com/wp-content/uploads/2025/01/NewSLAlogo_Outline.png
ORGANIZER;CN="Tracey Carter%2C President":MAILTO:president.sladst@gmail.com
END:VEVENT
BEGIN:VEVENT
DTSTART;TZID=America/Chicago:20280325T100000
DTEND;TZID=America/Chicago:20280325T110000
DTSTAMP:20260420T151506
CREATED:20250912T205427Z
LAST-MODIFIED:20250912T205429Z
UID:10000078-1837591200-1837594800@sladst1913.com
SUMMARY:Executive Board Meeting
DESCRIPTION:
URL:https://sladst1913.com/event/executive-board-meeting-2/2028-03-25/
ATTACH;FMTTYPE=image/png:https://sladst1913.com/wp-content/uploads/2025/01/NewSLAlogo_Outline.png
END:VEVENT
BEGIN:VEVENT
DTSTART;TZID=America/Chicago:20280401T130000
DTEND;TZID=America/Chicago:20280401T150000
DTSTAMP:20260420T151506
CREATED:20250519T170017Z
LAST-MODIFIED:20250912T211705Z
UID:10000144-1838206800-1838214000@sladst1913.com
SUMMARY:SLA Chapter Meeting
DESCRIPTION:Monthly Meeting of the Sorors of the Saint Louis Alumnae chapter of Delta Sigma Theta Sorority\, Inc.
URL:https://sladst1913.com/event/sla-chapter-meeting-2/2028-04-01/
LOCATION:Carr Lane VPA Middle School\, 1004 N. Jefferson\, Saint Louis\, MO\, 63106\, United States
CATEGORIES:Chapter Meeting
ATTACH;FMTTYPE=image/png:https://sladst1913.com/wp-content/uploads/2025/01/NewSLAlogo_Outline.png
ORGANIZER;CN="Tracey Carter%2C President":MAILTO:president.sladst@gmail.com
END:VEVENT
BEGIN:VEVENT
DTSTART;TZID=America/Chicago:20280422T100000
DTEND;TZID=America/Chicago:20280422T110000
DTSTAMP:20260420T151506
CREATED:20250912T205427Z
LAST-MODIFIED:20250912T205429Z
UID:10000079-1840010400-1840014000@sladst1913.com
SUMMARY:Executive Board Meeting
DESCRIPTION:
URL:https://sladst1913.com/event/executive-board-meeting-2/2028-04-22/
ATTACH;FMTTYPE=image/png:https://sladst1913.com/wp-content/uploads/2025/01/NewSLAlogo_Outline.png
END:VEVENT
BEGIN:VEVENT
DTSTART;TZID=America/Chicago:20280506T130000
DTEND;TZID=America/Chicago:20280506T150000
DTSTAMP:20260420T151506
CREATED:20250519T170017Z
LAST-MODIFIED:20250912T211705Z
UID:10000145-1841230800-1841238000@sladst1913.com
SUMMARY:SLA Chapter Meeting
DESCRIPTION:Monthly Meeting of the Sorors of the Saint Louis Alumnae chapter of Delta Sigma Theta Sorority\, Inc.
URL:https://sladst1913.com/event/sla-chapter-meeting-2/2028-05-06/
LOCATION:Carr Lane VPA Middle School\, 1004 N. Jefferson\, Saint Louis\, MO\, 63106\, United States
CATEGORIES:Chapter Meeting
ATTACH;FMTTYPE=image/png:https://sladst1913.com/wp-content/uploads/2025/01/NewSLAlogo_Outline.png
ORGANIZER;CN="Tracey Carter%2C President":MAILTO:president.sladst@gmail.com
END:VEVENT
BEGIN:VEVENT
DTSTART;TZID=America/Chicago:20280527T100000
DTEND;TZID=America/Chicago:20280527T110000
DTSTAMP:20260420T151506
CREATED:20250912T205427Z
LAST-MODIFIED:20250912T205429Z
UID:10000080-1843034400-1843038000@sladst1913.com
SUMMARY:Executive Board Meeting
DESCRIPTION:
URL:https://sladst1913.com/event/executive-board-meeting-2/2028-05-27/
ATTACH;FMTTYPE=image/png:https://sladst1913.com/wp-content/uploads/2025/01/NewSLAlogo_Outline.png
END:VEVENT
BEGIN:VEVENT
DTSTART;TZID=America/Chicago:20280603T130000
DTEND;TZID=America/Chicago:20280603T150000
DTSTAMP:20260420T151506
CREATED:20250519T170017Z
LAST-MODIFIED:20250912T211705Z
UID:10000146-1843650000-1843657200@sladst1913.com
SUMMARY:SLA Chapter Meeting
DESCRIPTION:Monthly Meeting of the Sorors of the Saint Louis Alumnae chapter of Delta Sigma Theta Sorority\, Inc.
URL:https://sladst1913.com/event/sla-chapter-meeting-2/2028-06-03/
LOCATION:Carr Lane VPA Middle School\, 1004 N. Jefferson\, Saint Louis\, MO\, 63106\, United States
CATEGORIES:Chapter Meeting
ATTACH;FMTTYPE=image/png:https://sladst1913.com/wp-content/uploads/2025/01/NewSLAlogo_Outline.png
ORGANIZER;CN="Tracey Carter%2C President":MAILTO:president.sladst@gmail.com
END:VEVENT
BEGIN:VEVENT
DTSTART;TZID=America/Chicago:20280624T100000
DTEND;TZID=America/Chicago:20280624T110000
DTSTAMP:20260420T151506
CREATED:20250912T205427Z
LAST-MODIFIED:20250912T205429Z
UID:10000081-1845453600-1845457200@sladst1913.com
SUMMARY:Executive Board Meeting
DESCRIPTION:
URL:https://sladst1913.com/event/executive-board-meeting-2/2028-06-24/
ATTACH;FMTTYPE=image/png:https://sladst1913.com/wp-content/uploads/2025/01/NewSLAlogo_Outline.png
END:VEVENT
BEGIN:VEVENT
DTSTART;TZID=America/Chicago:20280701T130000
DTEND;TZID=America/Chicago:20280701T150000
DTSTAMP:20260420T151506
CREATED:20250519T170017Z
LAST-MODIFIED:20250912T211705Z
UID:10000147-1846069200-1846076400@sladst1913.com
SUMMARY:SLA Chapter Meeting
DESCRIPTION:Monthly Meeting of the Sorors of the Saint Louis Alumnae chapter of Delta Sigma Theta Sorority\, Inc.
URL:https://sladst1913.com/event/sla-chapter-meeting-2/2028-07-01/
LOCATION:Carr Lane VPA Middle School\, 1004 N. Jefferson\, Saint Louis\, MO\, 63106\, United States
CATEGORIES:Chapter Meeting
ATTACH;FMTTYPE=image/png:https://sladst1913.com/wp-content/uploads/2025/01/NewSLAlogo_Outline.png
ORGANIZER;CN="Tracey Carter%2C President":MAILTO:president.sladst@gmail.com
END:VEVENT
BEGIN:VEVENT
DTSTART;TZID=America/Chicago:20280722T100000
DTEND;TZID=America/Chicago:20280722T110000
DTSTAMP:20260420T151506
CREATED:20250912T205427Z
LAST-MODIFIED:20250912T205429Z
UID:10000082-1847872800-1847876400@sladst1913.com
SUMMARY:Executive Board Meeting
DESCRIPTION:
URL:https://sladst1913.com/event/executive-board-meeting-2/2028-07-22/
ATTACH;FMTTYPE=image/png:https://sladst1913.com/wp-content/uploads/2025/01/NewSLAlogo_Outline.png
END:VEVENT
BEGIN:VEVENT
DTSTART;TZID=America/Chicago:20280805T130000
DTEND;TZID=America/Chicago:20280805T150000
DTSTAMP:20260420T151506
CREATED:20250519T170017Z
LAST-MODIFIED:20250912T211705Z
UID:10000148-1849093200-1849100400@sladst1913.com
SUMMARY:SLA Chapter Meeting
DESCRIPTION:Monthly Meeting of the Sorors of the Saint Louis Alumnae chapter of Delta Sigma Theta Sorority\, Inc.
URL:https://sladst1913.com/event/sla-chapter-meeting-2/2028-08-05/
LOCATION:Carr Lane VPA Middle School\, 1004 N. Jefferson\, Saint Louis\, MO\, 63106\, United States
CATEGORIES:Chapter Meeting
ATTACH;FMTTYPE=image/png:https://sladst1913.com/wp-content/uploads/2025/01/NewSLAlogo_Outline.png
ORGANIZER;CN="Tracey Carter%2C President":MAILTO:president.sladst@gmail.com
END:VEVENT
BEGIN:VEVENT
DTSTART;TZID=America/Chicago:20280826T100000
DTEND;TZID=America/Chicago:20280826T110000
DTSTAMP:20260420T151506
CREATED:20250912T205427Z
LAST-MODIFIED:20250912T205429Z
UID:10000083-1850896800-1850900400@sladst1913.com
SUMMARY:Executive Board Meeting
DESCRIPTION:
URL:https://sladst1913.com/event/executive-board-meeting-2/2028-08-26/
ATTACH;FMTTYPE=image/png:https://sladst1913.com/wp-content/uploads/2025/01/NewSLAlogo_Outline.png
END:VEVENT
BEGIN:VEVENT
DTSTART;TZID=America/Chicago:20280902T130000
DTEND;TZID=America/Chicago:20280902T150000
DTSTAMP:20260420T151506
CREATED:20250519T170017Z
LAST-MODIFIED:20250912T211705Z
UID:10000149-1851512400-1851519600@sladst1913.com
SUMMARY:SLA Chapter Meeting
DESCRIPTION:Monthly Meeting of the Sorors of the Saint Louis Alumnae chapter of Delta Sigma Theta Sorority\, Inc.
URL:https://sladst1913.com/event/sla-chapter-meeting-2/2028-09-02/
LOCATION:Carr Lane VPA Middle School\, 1004 N. Jefferson\, Saint Louis\, MO\, 63106\, United States
CATEGORIES:Chapter Meeting
ATTACH;FMTTYPE=image/png:https://sladst1913.com/wp-content/uploads/2025/01/NewSLAlogo_Outline.png
ORGANIZER;CN="Tracey Carter%2C President":MAILTO:president.sladst@gmail.com
END:VEVENT
BEGIN:VEVENT
DTSTART;TZID=America/Chicago:20280923T100000
DTEND;TZID=America/Chicago:20280923T110000
DTSTAMP:20260420T151506
CREATED:20250912T205427Z
LAST-MODIFIED:20250912T205429Z
UID:10000084-1853316000-1853319600@sladst1913.com
SUMMARY:Executive Board Meeting
DESCRIPTION:
URL:https://sladst1913.com/event/executive-board-meeting-2/2028-09-23/
ATTACH;FMTTYPE=image/png:https://sladst1913.com/wp-content/uploads/2025/01/NewSLAlogo_Outline.png
END:VEVENT
BEGIN:VEVENT
DTSTART;TZID=America/Chicago:20281007T130000
DTEND;TZID=America/Chicago:20281007T150000
DTSTAMP:20260420T151506
CREATED:20250519T170017Z
LAST-MODIFIED:20250912T211705Z
UID:10000150-1854536400-1854543600@sladst1913.com
SUMMARY:SLA Chapter Meeting
DESCRIPTION:Monthly Meeting of the Sorors of the Saint Louis Alumnae chapter of Delta Sigma Theta Sorority\, Inc.
URL:https://sladst1913.com/event/sla-chapter-meeting-2/2028-10-07/
LOCATION:Carr Lane VPA Middle School\, 1004 N. Jefferson\, Saint Louis\, MO\, 63106\, United States
CATEGORIES:Chapter Meeting
ATTACH;FMTTYPE=image/png:https://sladst1913.com/wp-content/uploads/2025/01/NewSLAlogo_Outline.png
ORGANIZER;CN="Tracey Carter%2C President":MAILTO:president.sladst@gmail.com
END:VEVENT
BEGIN:VEVENT
DTSTART;TZID=America/Chicago:20281028T100000
DTEND;TZID=America/Chicago:20281028T110000
DTSTAMP:20260420T151506
CREATED:20250912T205427Z
LAST-MODIFIED:20250912T205429Z
UID:10000085-1856340000-1856343600@sladst1913.com
SUMMARY:Executive Board Meeting
DESCRIPTION:
URL:https://sladst1913.com/event/executive-board-meeting-2/2028-10-28/
ATTACH;FMTTYPE=image/png:https://sladst1913.com/wp-content/uploads/2025/01/NewSLAlogo_Outline.png
END:VEVENT
BEGIN:VEVENT
DTSTART;TZID=America/Chicago:20281104T130000
DTEND;TZID=America/Chicago:20281104T150000
DTSTAMP:20260420T151506
CREATED:20250519T170017Z
LAST-MODIFIED:20250912T211705Z
UID:10000151-1856955600-1856962800@sladst1913.com
SUMMARY:SLA Chapter Meeting
DESCRIPTION:Monthly Meeting of the Sorors of the Saint Louis Alumnae chapter of Delta Sigma Theta Sorority\, Inc.
URL:https://sladst1913.com/event/sla-chapter-meeting-2/2028-11-04/
LOCATION:Carr Lane VPA Middle School\, 1004 N. Jefferson\, Saint Louis\, MO\, 63106\, United States
CATEGORIES:Chapter Meeting
ATTACH;FMTTYPE=image/png:https://sladst1913.com/wp-content/uploads/2025/01/NewSLAlogo_Outline.png
ORGANIZER;CN="Tracey Carter%2C President":MAILTO:president.sladst@gmail.com
END:VEVENT
BEGIN:VEVENT
DTSTART;TZID=America/Chicago:20281125T100000
DTEND;TZID=America/Chicago:20281125T110000
DTSTAMP:20260420T151506
CREATED:20250912T205427Z
LAST-MODIFIED:20250912T205429Z
UID:10000086-1858759200-1858762800@sladst1913.com
SUMMARY:Executive Board Meeting
DESCRIPTION:
URL:https://sladst1913.com/event/executive-board-meeting-2/2028-11-25/
ATTACH;FMTTYPE=image/png:https://sladst1913.com/wp-content/uploads/2025/01/NewSLAlogo_Outline.png
END:VEVENT
BEGIN:VEVENT
DTSTART;TZID=America/Chicago:20281202T130000
DTEND;TZID=America/Chicago:20281202T150000
DTSTAMP:20260420T151506
CREATED:20250519T170017Z
LAST-MODIFIED:20250912T211705Z
UID:10000152-1859374800-1859382000@sladst1913.com
SUMMARY:SLA Chapter Meeting
DESCRIPTION:Monthly Meeting of the Sorors of the Saint Louis Alumnae chapter of Delta Sigma Theta Sorority\, Inc.
URL:https://sladst1913.com/event/sla-chapter-meeting-2/2028-12-02/
LOCATION:Carr Lane VPA Middle School\, 1004 N. Jefferson\, Saint Louis\, MO\, 63106\, United States
CATEGORIES:Chapter Meeting
ATTACH;FMTTYPE=image/png:https://sladst1913.com/wp-content/uploads/2025/01/NewSLAlogo_Outline.png
ORGANIZER;CN="Tracey Carter%2C President":MAILTO:president.sladst@gmail.com
END:VEVENT
BEGIN:VEVENT
DTSTART;TZID=America/Chicago:20281223T100000
DTEND;TZID=America/Chicago:20281223T110000
DTSTAMP:20260420T151506
CREATED:20250912T205427Z
LAST-MODIFIED:20250912T205429Z
UID:10000087-1861178400-1861182000@sladst1913.com
SUMMARY:Executive Board Meeting
DESCRIPTION:
URL:https://sladst1913.com/event/executive-board-meeting-2/2028-12-23/
ATTACH;FMTTYPE=image/png:https://sladst1913.com/wp-content/uploads/2025/01/NewSLAlogo_Outline.png
END:VEVENT
BEGIN:VEVENT
DTSTART;TZID=America/Chicago:20290106T130000
DTEND;TZID=America/Chicago:20290106T150000
DTSTAMP:20260420T151506
CREATED:20250519T170017Z
LAST-MODIFIED:20250912T211705Z
UID:10000153-1862398800-1862406000@sladst1913.com
SUMMARY:SLA Chapter Meeting
DESCRIPTION:Monthly Meeting of the Sorors of the Saint Louis Alumnae chapter of Delta Sigma Theta Sorority\, Inc.
URL:https://sladst1913.com/event/sla-chapter-meeting-2/2029-01-06/
LOCATION:Carr Lane VPA Middle School\, 1004 N. Jefferson\, Saint Louis\, MO\, 63106\, United States
CATEGORIES:Chapter Meeting
ATTACH;FMTTYPE=image/png:https://sladst1913.com/wp-content/uploads/2025/01/NewSLAlogo_Outline.png
ORGANIZER;CN="Tracey Carter%2C President":MAILTO:president.sladst@gmail.com
END:VEVENT
BEGIN:VEVENT
DTSTART;TZID=America/Chicago:20290127T100000
DTEND;TZID=America/Chicago:20290127T110000
DTSTAMP:20260420T151506
CREATED:20250912T205427Z
LAST-MODIFIED:20250912T205429Z
UID:10000088-1864202400-1864206000@sladst1913.com
SUMMARY:Executive Board Meeting
DESCRIPTION:
URL:https://sladst1913.com/event/executive-board-meeting-2/2029-01-27/
ATTACH;FMTTYPE=image/png:https://sladst1913.com/wp-content/uploads/2025/01/NewSLAlogo_Outline.png
END:VEVENT
BEGIN:VEVENT
DTSTART;TZID=America/Chicago:20290203T130000
DTEND;TZID=America/Chicago:20290203T150000
DTSTAMP:20260420T151506
CREATED:20250519T170017Z
LAST-MODIFIED:20250912T211705Z
UID:10000154-1864818000-1864825200@sladst1913.com
SUMMARY:SLA Chapter Meeting
DESCRIPTION:Monthly Meeting of the Sorors of the Saint Louis Alumnae chapter of Delta Sigma Theta Sorority\, Inc.
URL:https://sladst1913.com/event/sla-chapter-meeting-2/2029-02-03/
LOCATION:Carr Lane VPA Middle School\, 1004 N. Jefferson\, Saint Louis\, MO\, 63106\, United States
CATEGORIES:Chapter Meeting
ATTACH;FMTTYPE=image/png:https://sladst1913.com/wp-content/uploads/2025/01/NewSLAlogo_Outline.png
ORGANIZER;CN="Tracey Carter%2C President":MAILTO:president.sladst@gmail.com
END:VEVENT
BEGIN:VEVENT
DTSTART;TZID=America/Chicago:20290224T100000
DTEND;TZID=America/Chicago:20290224T110000
DTSTAMP:20260420T151506
CREATED:20250912T205427Z
LAST-MODIFIED:20250912T205429Z
UID:10000089-1866621600-1866625200@sladst1913.com
SUMMARY:Executive Board Meeting
DESCRIPTION:
URL:https://sladst1913.com/event/executive-board-meeting-2/2029-02-24/
ATTACH;FMTTYPE=image/png:https://sladst1913.com/wp-content/uploads/2025/01/NewSLAlogo_Outline.png
END:VEVENT
BEGIN:VEVENT
DTSTART;TZID=America/Chicago:20290303T130000
DTEND;TZID=America/Chicago:20290303T150000
DTSTAMP:20260420T151506
CREATED:20250519T170017Z
LAST-MODIFIED:20250912T211705Z
UID:10000155-1867237200-1867244400@sladst1913.com
SUMMARY:SLA Chapter Meeting
DESCRIPTION:Monthly Meeting of the Sorors of the Saint Louis Alumnae chapter of Delta Sigma Theta Sorority\, Inc.
URL:https://sladst1913.com/event/sla-chapter-meeting-2/2029-03-03/
LOCATION:Carr Lane VPA Middle School\, 1004 N. Jefferson\, Saint Louis\, MO\, 63106\, United States
CATEGORIES:Chapter Meeting
ATTACH;FMTTYPE=image/png:https://sladst1913.com/wp-content/uploads/2025/01/NewSLAlogo_Outline.png
ORGANIZER;CN="Tracey Carter%2C President":MAILTO:president.sladst@gmail.com
END:VEVENT
BEGIN:VEVENT
DTSTART;TZID=America/Chicago:20290324T100000
DTEND;TZID=America/Chicago:20290324T110000
DTSTAMP:20260420T151506
CREATED:20250912T205427Z
LAST-MODIFIED:20250912T205429Z
UID:10000090-1869040800-1869044400@sladst1913.com
SUMMARY:Executive Board Meeting
DESCRIPTION:
URL:https://sladst1913.com/event/executive-board-meeting-2/2029-03-24/
ATTACH;FMTTYPE=image/png:https://sladst1913.com/wp-content/uploads/2025/01/NewSLAlogo_Outline.png
END:VEVENT
END:VCALENDAR