BEGIN:VCALENDAR
VERSION:2.0
PRODID:-//Saint Louis Alumnae Chapter of Delta Sigma Theta Sorority, Inc. - ECPv6.15.20//NONSGML v1.0//EN
CALSCALE:GREGORIAN
METHOD:PUBLISH
X-ORIGINAL-URL:https://sladst1913.com
X-WR-CALDESC:Events for Saint Louis Alumnae Chapter of Delta Sigma Theta Sorority, Inc.
REFRESH-INTERVAL;VALUE=DURATION:PT1H
X-Robots-Tag:noindex
X-PUBLISHED-TTL:PT1H
BEGIN:VTIMEZONE
TZID:America/Chicago
BEGIN:DAYLIGHT
TZOFFSETFROM:-0600
TZOFFSETTO:-0500
TZNAME:CDT
DTSTART:20250309T080000
END:DAYLIGHT
BEGIN:STANDARD
TZOFFSETFROM:-0500
TZOFFSETTO:-0600
TZNAME:CST
DTSTART:20251102T070000
END:STANDARD
BEGIN:DAYLIGHT
TZOFFSETFROM:-0600
TZOFFSETTO:-0500
TZNAME:CDT
DTSTART:20260308T080000
END:DAYLIGHT
BEGIN:STANDARD
TZOFFSETFROM:-0500
TZOFFSETTO:-0600
TZNAME:CST
DTSTART:20261101T070000
END:STANDARD
BEGIN:DAYLIGHT
TZOFFSETFROM:-0600
TZOFFSETTO:-0500
TZNAME:CDT
DTSTART:20270314T080000
END:DAYLIGHT
BEGIN:STANDARD
TZOFFSETFROM:-0500
TZOFFSETTO:-0600
TZNAME:CST
DTSTART:20271107T070000
END:STANDARD
BEGIN:DAYLIGHT
TZOFFSETFROM:-0600
TZOFFSETTO:-0500
TZNAME:CDT
DTSTART:20280312T080000
END:DAYLIGHT
BEGIN:STANDARD
TZOFFSETFROM:-0500
TZOFFSETTO:-0600
TZNAME:CST
DTSTART:20281105T070000
END:STANDARD
END:VTIMEZONE
BEGIN:VEVENT
DTSTART;TZID=America/Chicago:20260711T130000
DTEND;TZID=America/Chicago:20260711T150000
DTSTAMP:20260420T131020
CREATED:20251101T194237Z
LAST-MODIFIED:20251101T194645Z
UID:10000307-1783774800-1783782000@sladst1913.com
SUMMARY:SLA Chapter Meeting
DESCRIPTION:Monthly Meeting of the Sorors of the Saint Louis Alumnae chapter of Delta Sigma Theta Sorority\, Inc.
URL:https://sladst1913.com/event/sla-chapter-meeting-4/
LOCATION:Carr Lane VPA Middle School\, 1004 N. Jefferson\, Saint Louis\, MO\, 63106\, United States
ATTACH;FMTTYPE=image/png:https://sladst1913.com/wp-content/uploads/2024/10/20250927-header-test.png
ORGANIZER;CN="Tracey Carter%2C President":MAILTO:president.sladst@gmail.com
END:VEVENT
BEGIN:VEVENT
DTSTART;TZID=America/Chicago:20260725T100000
DTEND;TZID=America/Chicago:20260725T110000
DTSTAMP:20260420T131020
CREATED:20250912T205427Z
LAST-MODIFIED:20250912T205429Z
UID:10000058-1784973600-1784977200@sladst1913.com
SUMMARY:Executive Board Meeting
DESCRIPTION:
URL:https://sladst1913.com/event/executive-board-meeting-2/2026-07-25/
LOCATION:Missouri
ATTACH;FMTTYPE=image/png:https://sladst1913.com/wp-content/uploads/2025/01/NewSLAlogo_Outline.png
END:VEVENT
BEGIN:VEVENT
DTSTART;TZID=America/Chicago:20260822T100000
DTEND;TZID=America/Chicago:20260822T110000
DTSTAMP:20260420T131020
CREATED:20250912T205427Z
LAST-MODIFIED:20250912T205429Z
UID:10000059-1787392800-1787396400@sladst1913.com
SUMMARY:Executive Board Meeting
DESCRIPTION:
URL:https://sladst1913.com/event/executive-board-meeting-2/2026-08-22/
LOCATION:Missouri
ATTACH;FMTTYPE=image/png:https://sladst1913.com/wp-content/uploads/2025/01/NewSLAlogo_Outline.png
END:VEVENT
BEGIN:VEVENT
DTSTART;TZID=America/Chicago:20260926T100000
DTEND;TZID=America/Chicago:20260926T110000
DTSTAMP:20260420T131020
CREATED:20250912T205427Z
LAST-MODIFIED:20250912T205429Z
UID:10000060-1790416800-1790420400@sladst1913.com
SUMMARY:Executive Board Meeting
DESCRIPTION:
URL:https://sladst1913.com/event/executive-board-meeting-2/2026-09-26/
LOCATION:Missouri
ATTACH;FMTTYPE=image/png:https://sladst1913.com/wp-content/uploads/2025/01/NewSLAlogo_Outline.png
END:VEVENT
BEGIN:VEVENT
DTSTART;TZID=America/Chicago:20261003T130000
DTEND;TZID=America/Chicago:20261003T150000
DTSTAMP:20260420T131020
CREATED:20250519T170017Z
LAST-MODIFIED:20250912T211705Z
UID:10000126-1791032400-1791039600@sladst1913.com
SUMMARY:SLA Chapter Meeting
DESCRIPTION:Monthly Meeting of the Sorors of the Saint Louis Alumnae chapter of Delta Sigma Theta Sorority\, Inc.
URL:https://sladst1913.com/event/sla-chapter-meeting-2/2026-10-03/
LOCATION:Carr Lane VPA Middle School\, 1004 N. Jefferson\, Saint Louis\, MO\, 63106\, United States
CATEGORIES:Chapter Meeting
ATTACH;FMTTYPE=image/png:https://sladst1913.com/wp-content/uploads/2025/01/NewSLAlogo_Outline.png
ORGANIZER;CN="Tracey Carter%2C President":MAILTO:president.sladst@gmail.com
END:VEVENT
BEGIN:VEVENT
DTSTART;TZID=America/Chicago:20261024T100000
DTEND;TZID=America/Chicago:20261024T110000
DTSTAMP:20260420T131020
CREATED:20250912T205427Z
LAST-MODIFIED:20250912T205429Z
UID:10000061-1792836000-1792839600@sladst1913.com
SUMMARY:Executive Board Meeting
DESCRIPTION:
URL:https://sladst1913.com/event/executive-board-meeting-2/2026-10-24/
LOCATION:Missouri
ATTACH;FMTTYPE=image/png:https://sladst1913.com/wp-content/uploads/2025/01/NewSLAlogo_Outline.png
END:VEVENT
BEGIN:VEVENT
DTSTART;TZID=America/Chicago:20261107T130000
DTEND;TZID=America/Chicago:20261107T150000
DTSTAMP:20260420T131020
CREATED:20250519T170017Z
LAST-MODIFIED:20250912T211705Z
UID:10000127-1794056400-1794063600@sladst1913.com
SUMMARY:SLA Chapter Meeting
DESCRIPTION:Monthly Meeting of the Sorors of the Saint Louis Alumnae chapter of Delta Sigma Theta Sorority\, Inc.
URL:https://sladst1913.com/event/sla-chapter-meeting-2/2026-11-07/
LOCATION:Carr Lane VPA Middle School\, 1004 N. Jefferson\, Saint Louis\, MO\, 63106\, United States
CATEGORIES:Chapter Meeting
ATTACH;FMTTYPE=image/png:https://sladst1913.com/wp-content/uploads/2025/01/NewSLAlogo_Outline.png
ORGANIZER;CN="Tracey Carter%2C President":MAILTO:president.sladst@gmail.com
END:VEVENT
BEGIN:VEVENT
DTSTART;TZID=America/Chicago:20261128T100000
DTEND;TZID=America/Chicago:20261128T110000
DTSTAMP:20260420T131020
CREATED:20250912T205427Z
LAST-MODIFIED:20250912T205429Z
UID:10000062-1795860000-1795863600@sladst1913.com
SUMMARY:Executive Board Meeting
DESCRIPTION:
URL:https://sladst1913.com/event/executive-board-meeting-2/2026-11-28/
LOCATION:Missouri
ATTACH;FMTTYPE=image/png:https://sladst1913.com/wp-content/uploads/2025/01/NewSLAlogo_Outline.png
END:VEVENT
BEGIN:VEVENT
DTSTART;TZID=America/Chicago:20261205T130000
DTEND;TZID=America/Chicago:20261205T150000
DTSTAMP:20260420T131020
CREATED:20250519T170017Z
LAST-MODIFIED:20250912T211705Z
UID:10000128-1796475600-1796482800@sladst1913.com
SUMMARY:SLA Chapter Meeting
DESCRIPTION:Monthly Meeting of the Sorors of the Saint Louis Alumnae chapter of Delta Sigma Theta Sorority\, Inc.
URL:https://sladst1913.com/event/sla-chapter-meeting-2/2026-12-05/
LOCATION:Carr Lane VPA Middle School\, 1004 N. Jefferson\, Saint Louis\, MO\, 63106\, United States
CATEGORIES:Chapter Meeting
ATTACH;FMTTYPE=image/png:https://sladst1913.com/wp-content/uploads/2025/01/NewSLAlogo_Outline.png
ORGANIZER;CN="Tracey Carter%2C President":MAILTO:president.sladst@gmail.com
END:VEVENT
BEGIN:VEVENT
DTSTART;TZID=America/Chicago:20261218T000000
DTEND;TZID=America/Chicago:20261218T235959
DTSTAMP:20260420T131020
CREATED:20250925T173849Z
LAST-MODIFIED:20250925T173853Z
UID:10000235-1797552000-1797638399@sladst1913.com
SUMMARY:Centennial Charter Ring In
DESCRIPTION:
URL:https://sladst1913.com/event/centennial-charter-ring-in/
LOCATION:Missouri
ATTACH;FMTTYPE=image/jpeg:https://sladst1913.com/wp-content/uploads/2025/09/PlanIcon__99554878-scaled.jpeg
END:VEVENT
BEGIN:VEVENT
DTSTART;TZID=America/Chicago:20261219T000000
DTEND;TZID=America/Chicago:20261219T235959
DTSTAMP:20260420T131020
CREATED:20250925T174020Z
LAST-MODIFIED:20250925T174024Z
UID:10000236-1797638400-1797724799@sladst1913.com
SUMMARY:Breakfast Trivia: 100 Acts of Kindness
DESCRIPTION:
URL:https://sladst1913.com/event/breakfast-trivia-100-acts-of-kindness/
LOCATION:Missouri
ATTACH;FMTTYPE=image/jpeg:https://sladst1913.com/wp-content/uploads/2025/09/PlanIcon__99554878-scaled.jpeg
END:VEVENT
BEGIN:VEVENT
DTSTART;TZID=America/Chicago:20261219T000000
DTEND;TZID=America/Chicago:20261219T235959
DTSTAMP:20260420T131020
CREATED:20250925T174459Z
LAST-MODIFIED:20250925T174502Z
UID:10000237-1797638400-1797724799@sladst1913.com
SUMMARY:Centennial Gala Celebration: Celebrating a Century of Service
DESCRIPTION:
URL:https://sladst1913.com/event/centennial-gala-celebration-celebrating-a-century-of-service/
LOCATION:Missouri
ATTACH;FMTTYPE=image/jpeg:https://sladst1913.com/wp-content/uploads/2025/09/PlanIcon__99554878-scaled.jpeg
END:VEVENT
BEGIN:VEVENT
DTSTART;TZID=America/Chicago:20261220T000000
DTEND;TZID=America/Chicago:20261220T235959
DTSTAMP:20260420T131020
CREATED:20250925T174750Z
LAST-MODIFIED:20250925T174754Z
UID:10000238-1797724800-1797811199@sladst1913.com
SUMMARY:Centennial Celebration Ecumenical Service
DESCRIPTION:Theme: Praising Our Successes\, Blessing Our Progress
URL:https://sladst1913.com/event/centennial-celebration-ecumenical-service/
LOCATION:Missouri
ATTACH;FMTTYPE=image/jpeg:https://sladst1913.com/wp-content/uploads/2025/09/PlanIcon__99554878-scaled.jpeg
END:VEVENT
BEGIN:VEVENT
DTSTART;TZID=America/Chicago:20261226T100000
DTEND;TZID=America/Chicago:20261226T110000
DTSTAMP:20260420T131020
CREATED:20250912T205427Z
LAST-MODIFIED:20250912T205429Z
UID:10000063-1798279200-1798282800@sladst1913.com
SUMMARY:Executive Board Meeting
DESCRIPTION:
URL:https://sladst1913.com/event/executive-board-meeting-2/2026-12-26/
LOCATION:Missouri
ATTACH;FMTTYPE=image/png:https://sladst1913.com/wp-content/uploads/2025/01/NewSLAlogo_Outline.png
END:VEVENT
BEGIN:VEVENT
DTSTART;TZID=America/Chicago:20270102T130000
DTEND;TZID=America/Chicago:20270102T150000
DTSTAMP:20260420T131020
CREATED:20250519T170017Z
LAST-MODIFIED:20250912T211705Z
UID:10000129-1798894800-1798902000@sladst1913.com
SUMMARY:SLA Chapter Meeting
DESCRIPTION:Monthly Meeting of the Sorors of the Saint Louis Alumnae chapter of Delta Sigma Theta Sorority\, Inc.
URL:https://sladst1913.com/event/sla-chapter-meeting-2/2027-01-02/
LOCATION:Carr Lane VPA Middle School\, 1004 N. Jefferson\, Saint Louis\, MO\, 63106\, United States
CATEGORIES:Chapter Meeting
ATTACH;FMTTYPE=image/png:https://sladst1913.com/wp-content/uploads/2025/01/NewSLAlogo_Outline.png
ORGANIZER;CN="Tracey Carter%2C President":MAILTO:president.sladst@gmail.com
END:VEVENT
BEGIN:VEVENT
DTSTART;TZID=America/Chicago:20270123T100000
DTEND;TZID=America/Chicago:20270123T110000
DTSTAMP:20260420T131020
CREATED:20250912T205427Z
LAST-MODIFIED:20250912T205429Z
UID:10000064-1800698400-1800702000@sladst1913.com
SUMMARY:Executive Board Meeting
DESCRIPTION:
URL:https://sladst1913.com/event/executive-board-meeting-2/2027-01-23/
LOCATION:Missouri
ATTACH;FMTTYPE=image/png:https://sladst1913.com/wp-content/uploads/2025/01/NewSLAlogo_Outline.png
END:VEVENT
BEGIN:VEVENT
DTSTART;TZID=America/Chicago:20270206T130000
DTEND;TZID=America/Chicago:20270206T150000
DTSTAMP:20260420T131020
CREATED:20250519T170017Z
LAST-MODIFIED:20250912T211705Z
UID:10000130-1801918800-1801926000@sladst1913.com
SUMMARY:SLA Chapter Meeting
DESCRIPTION:Monthly Meeting of the Sorors of the Saint Louis Alumnae chapter of Delta Sigma Theta Sorority\, Inc.
URL:https://sladst1913.com/event/sla-chapter-meeting-2/2027-02-06/
LOCATION:Carr Lane VPA Middle School\, 1004 N. Jefferson\, Saint Louis\, MO\, 63106\, United States
CATEGORIES:Chapter Meeting
ATTACH;FMTTYPE=image/png:https://sladst1913.com/wp-content/uploads/2025/01/NewSLAlogo_Outline.png
ORGANIZER;CN="Tracey Carter%2C President":MAILTO:president.sladst@gmail.com
END:VEVENT
BEGIN:VEVENT
DTSTART;TZID=America/Chicago:20270227T100000
DTEND;TZID=America/Chicago:20270227T110000
DTSTAMP:20260420T131020
CREATED:20250912T205427Z
LAST-MODIFIED:20250912T205429Z
UID:10000065-1803722400-1803726000@sladst1913.com
SUMMARY:Executive Board Meeting
DESCRIPTION:
URL:https://sladst1913.com/event/executive-board-meeting-2/2027-02-27/
LOCATION:Missouri
ATTACH;FMTTYPE=image/png:https://sladst1913.com/wp-content/uploads/2025/01/NewSLAlogo_Outline.png
END:VEVENT
BEGIN:VEVENT
DTSTART;TZID=America/Chicago:20270306T130000
DTEND;TZID=America/Chicago:20270306T150000
DTSTAMP:20260420T131020
CREATED:20250519T170017Z
LAST-MODIFIED:20250912T211705Z
UID:10000131-1804338000-1804345200@sladst1913.com
SUMMARY:SLA Chapter Meeting
DESCRIPTION:Monthly Meeting of the Sorors of the Saint Louis Alumnae chapter of Delta Sigma Theta Sorority\, Inc.
URL:https://sladst1913.com/event/sla-chapter-meeting-2/2027-03-06/
LOCATION:Carr Lane VPA Middle School\, 1004 N. Jefferson\, Saint Louis\, MO\, 63106\, United States
CATEGORIES:Chapter Meeting
ATTACH;FMTTYPE=image/png:https://sladst1913.com/wp-content/uploads/2025/01/NewSLAlogo_Outline.png
ORGANIZER;CN="Tracey Carter%2C President":MAILTO:president.sladst@gmail.com
END:VEVENT
BEGIN:VEVENT
DTSTART;TZID=America/Chicago:20270327T100000
DTEND;TZID=America/Chicago:20270327T110000
DTSTAMP:20260420T131020
CREATED:20250912T205427Z
LAST-MODIFIED:20250912T205429Z
UID:10000066-1806141600-1806145200@sladst1913.com
SUMMARY:Executive Board Meeting
DESCRIPTION:
URL:https://sladst1913.com/event/executive-board-meeting-2/2027-03-27/
LOCATION:Missouri
ATTACH;FMTTYPE=image/png:https://sladst1913.com/wp-content/uploads/2025/01/NewSLAlogo_Outline.png
END:VEVENT
BEGIN:VEVENT
DTSTART;TZID=America/Chicago:20270403T130000
DTEND;TZID=America/Chicago:20270403T150000
DTSTAMP:20260420T131020
CREATED:20250519T170017Z
LAST-MODIFIED:20250912T211705Z
UID:10000132-1806757200-1806764400@sladst1913.com
SUMMARY:SLA Chapter Meeting
DESCRIPTION:Monthly Meeting of the Sorors of the Saint Louis Alumnae chapter of Delta Sigma Theta Sorority\, Inc.
URL:https://sladst1913.com/event/sla-chapter-meeting-2/2027-04-03/
LOCATION:Carr Lane VPA Middle School\, 1004 N. Jefferson\, Saint Louis\, MO\, 63106\, United States
CATEGORIES:Chapter Meeting
ATTACH;FMTTYPE=image/png:https://sladst1913.com/wp-content/uploads/2025/01/NewSLAlogo_Outline.png
ORGANIZER;CN="Tracey Carter%2C President":MAILTO:president.sladst@gmail.com
END:VEVENT
BEGIN:VEVENT
DTSTART;TZID=America/Chicago:20270424T100000
DTEND;TZID=America/Chicago:20270424T110000
DTSTAMP:20260420T131020
CREATED:20250912T205427Z
LAST-MODIFIED:20250912T205429Z
UID:10000067-1808560800-1808564400@sladst1913.com
SUMMARY:Executive Board Meeting
DESCRIPTION:
URL:https://sladst1913.com/event/executive-board-meeting-2/2027-04-24/
LOCATION:Missouri
ATTACH;FMTTYPE=image/png:https://sladst1913.com/wp-content/uploads/2025/01/NewSLAlogo_Outline.png
END:VEVENT
BEGIN:VEVENT
DTSTART;TZID=America/Chicago:20270501T130000
DTEND;TZID=America/Chicago:20270501T150000
DTSTAMP:20260420T131020
CREATED:20250519T170017Z
LAST-MODIFIED:20250912T211705Z
UID:10000133-1809176400-1809183600@sladst1913.com
SUMMARY:SLA Chapter Meeting
DESCRIPTION:Monthly Meeting of the Sorors of the Saint Louis Alumnae chapter of Delta Sigma Theta Sorority\, Inc.
URL:https://sladst1913.com/event/sla-chapter-meeting-2/2027-05-01/
LOCATION:Carr Lane VPA Middle School\, 1004 N. Jefferson\, Saint Louis\, MO\, 63106\, United States
CATEGORIES:Chapter Meeting
ATTACH;FMTTYPE=image/png:https://sladst1913.com/wp-content/uploads/2025/01/NewSLAlogo_Outline.png
ORGANIZER;CN="Tracey Carter%2C President":MAILTO:president.sladst@gmail.com
END:VEVENT
BEGIN:VEVENT
DTSTART;TZID=America/Chicago:20270522T100000
DTEND;TZID=America/Chicago:20270522T110000
DTSTAMP:20260420T131020
CREATED:20250912T205427Z
LAST-MODIFIED:20250912T205429Z
UID:10000068-1810980000-1810983600@sladst1913.com
SUMMARY:Executive Board Meeting
DESCRIPTION:
URL:https://sladst1913.com/event/executive-board-meeting-2/2027-05-22/
LOCATION:Missouri
ATTACH;FMTTYPE=image/png:https://sladst1913.com/wp-content/uploads/2025/01/NewSLAlogo_Outline.png
END:VEVENT
BEGIN:VEVENT
DTSTART;TZID=America/Chicago:20270605T130000
DTEND;TZID=America/Chicago:20270605T150000
DTSTAMP:20260420T131020
CREATED:20250519T170017Z
LAST-MODIFIED:20250912T211705Z
UID:10000134-1812200400-1812207600@sladst1913.com
SUMMARY:SLA Chapter Meeting
DESCRIPTION:Monthly Meeting of the Sorors of the Saint Louis Alumnae chapter of Delta Sigma Theta Sorority\, Inc.
URL:https://sladst1913.com/event/sla-chapter-meeting-2/2027-06-05/
LOCATION:Carr Lane VPA Middle School\, 1004 N. Jefferson\, Saint Louis\, MO\, 63106\, United States
CATEGORIES:Chapter Meeting
ATTACH;FMTTYPE=image/png:https://sladst1913.com/wp-content/uploads/2025/01/NewSLAlogo_Outline.png
ORGANIZER;CN="Tracey Carter%2C President":MAILTO:president.sladst@gmail.com
END:VEVENT
BEGIN:VEVENT
DTSTART;TZID=America/Chicago:20270626T100000
DTEND;TZID=America/Chicago:20270626T110000
DTSTAMP:20260420T131020
CREATED:20250912T205427Z
LAST-MODIFIED:20250912T205429Z
UID:10000069-1814004000-1814007600@sladst1913.com
SUMMARY:Executive Board Meeting
DESCRIPTION:
URL:https://sladst1913.com/event/executive-board-meeting-2/2027-06-26/
LOCATION:Missouri
ATTACH;FMTTYPE=image/png:https://sladst1913.com/wp-content/uploads/2025/01/NewSLAlogo_Outline.png
END:VEVENT
BEGIN:VEVENT
DTSTART;TZID=America/Chicago:20270703T130000
DTEND;TZID=America/Chicago:20270703T150000
DTSTAMP:20260420T131020
CREATED:20250519T170017Z
LAST-MODIFIED:20250912T211705Z
UID:10000135-1814619600-1814626800@sladst1913.com
SUMMARY:SLA Chapter Meeting
DESCRIPTION:Monthly Meeting of the Sorors of the Saint Louis Alumnae chapter of Delta Sigma Theta Sorority\, Inc.
URL:https://sladst1913.com/event/sla-chapter-meeting-2/2027-07-03/
LOCATION:Carr Lane VPA Middle School\, 1004 N. Jefferson\, Saint Louis\, MO\, 63106\, United States
CATEGORIES:Chapter Meeting
ATTACH;FMTTYPE=image/png:https://sladst1913.com/wp-content/uploads/2025/01/NewSLAlogo_Outline.png
ORGANIZER;CN="Tracey Carter%2C President":MAILTO:president.sladst@gmail.com
END:VEVENT
BEGIN:VEVENT
DTSTART;TZID=America/Chicago:20270724T100000
DTEND;TZID=America/Chicago:20270724T110000
DTSTAMP:20260420T131020
CREATED:20250912T205427Z
LAST-MODIFIED:20250912T205429Z
UID:10000070-1816423200-1816426800@sladst1913.com
SUMMARY:Executive Board Meeting
DESCRIPTION:
URL:https://sladst1913.com/event/executive-board-meeting-2/2027-07-24/
LOCATION:Missouri
ATTACH;FMTTYPE=image/png:https://sladst1913.com/wp-content/uploads/2025/01/NewSLAlogo_Outline.png
END:VEVENT
BEGIN:VEVENT
DTSTART;TZID=America/Chicago:20270807T130000
DTEND;TZID=America/Chicago:20270807T150000
DTSTAMP:20260420T131020
CREATED:20250519T170017Z
LAST-MODIFIED:20250912T211705Z
UID:10000136-1817643600-1817650800@sladst1913.com
SUMMARY:SLA Chapter Meeting
DESCRIPTION:Monthly Meeting of the Sorors of the Saint Louis Alumnae chapter of Delta Sigma Theta Sorority\, Inc.
URL:https://sladst1913.com/event/sla-chapter-meeting-2/2027-08-07/
LOCATION:Carr Lane VPA Middle School\, 1004 N. Jefferson\, Saint Louis\, MO\, 63106\, United States
CATEGORIES:Chapter Meeting
ATTACH;FMTTYPE=image/png:https://sladst1913.com/wp-content/uploads/2025/01/NewSLAlogo_Outline.png
ORGANIZER;CN="Tracey Carter%2C President":MAILTO:president.sladst@gmail.com
END:VEVENT
BEGIN:VEVENT
DTSTART;TZID=America/Chicago:20270828T100000
DTEND;TZID=America/Chicago:20270828T110000
DTSTAMP:20260420T131020
CREATED:20250912T205427Z
LAST-MODIFIED:20250912T205429Z
UID:10000071-1819447200-1819450800@sladst1913.com
SUMMARY:Executive Board Meeting
DESCRIPTION:
URL:https://sladst1913.com/event/executive-board-meeting-2/2027-08-28/
LOCATION:Missouri
ATTACH;FMTTYPE=image/png:https://sladst1913.com/wp-content/uploads/2025/01/NewSLAlogo_Outline.png
END:VEVENT
END:VCALENDAR