BEGIN:VCALENDAR
VERSION:2.0
PRODID:-//Saint Louis Alumnae Chapter of Delta Sigma Theta Sorority, Inc. - ECPv6.15.20//NONSGML v1.0//EN
CALSCALE:GREGORIAN
METHOD:PUBLISH
X-WR-CALNAME:Saint Louis Alumnae Chapter of Delta Sigma Theta Sorority, Inc.
X-ORIGINAL-URL:https://sladst1913.com
X-WR-CALDESC:Events for Saint Louis Alumnae Chapter of Delta Sigma Theta Sorority, Inc.
REFRESH-INTERVAL;VALUE=DURATION:PT1H
X-Robots-Tag:noindex
X-PUBLISHED-TTL:PT1H
BEGIN:VTIMEZONE
TZID:America/Chicago
BEGIN:DAYLIGHT
TZOFFSETFROM:-0600
TZOFFSETTO:-0500
TZNAME:CDT
DTSTART:20270314T080000
END:DAYLIGHT
BEGIN:STANDARD
TZOFFSETFROM:-0500
TZOFFSETTO:-0600
TZNAME:CST
DTSTART:20271107T070000
END:STANDARD
BEGIN:DAYLIGHT
TZOFFSETFROM:-0600
TZOFFSETTO:-0500
TZNAME:CDT
DTSTART:20280312T080000
END:DAYLIGHT
BEGIN:STANDARD
TZOFFSETFROM:-0500
TZOFFSETTO:-0600
TZNAME:CST
DTSTART:20281105T070000
END:STANDARD
BEGIN:DAYLIGHT
TZOFFSETFROM:-0600
TZOFFSETTO:-0500
TZNAME:CDT
DTSTART:20290311T080000
END:DAYLIGHT
BEGIN:STANDARD
TZOFFSETFROM:-0500
TZOFFSETTO:-0600
TZNAME:CST
DTSTART:20291104T070000
END:STANDARD
BEGIN:DAYLIGHT
TZOFFSETFROM:-0600
TZOFFSETTO:-0500
TZNAME:CDT
DTSTART:20300310T080000
END:DAYLIGHT
BEGIN:STANDARD
TZOFFSETFROM:-0500
TZOFFSETTO:-0600
TZNAME:CST
DTSTART:20301103T070000
END:STANDARD
BEGIN:DAYLIGHT
TZOFFSETFROM:-0600
TZOFFSETTO:-0500
TZNAME:CDT
DTSTART:20310309T080000
END:DAYLIGHT
BEGIN:STANDARD
TZOFFSETFROM:-0500
TZOFFSETTO:-0600
TZNAME:CST
DTSTART:20311102T070000
END:STANDARD
END:VTIMEZONE
BEGIN:VEVENT
DTSTART;TZID=America/Chicago:20281125T100000
DTEND;TZID=America/Chicago:20281125T110000
DTSTAMP:20260420T133614
CREATED:20250912T205427Z
LAST-MODIFIED:20250912T205429Z
UID:10000086-1858759200-1858762800@sladst1913.com
SUMMARY:Executive Board Meeting
DESCRIPTION:
URL:https://sladst1913.com/event/executive-board-meeting-2/2028-11-25/
LOCATION:Missouri
ATTACH;FMTTYPE=image/png:https://sladst1913.com/wp-content/uploads/2025/01/NewSLAlogo_Outline.png
END:VEVENT
BEGIN:VEVENT
DTSTART;TZID=America/Chicago:20281202T130000
DTEND;TZID=America/Chicago:20281202T150000
DTSTAMP:20260420T133614
CREATED:20250519T170017Z
LAST-MODIFIED:20250912T211705Z
UID:10000152-1859374800-1859382000@sladst1913.com
SUMMARY:SLA Chapter Meeting
DESCRIPTION:Monthly Meeting of the Sorors of the Saint Louis Alumnae chapter of Delta Sigma Theta Sorority\, Inc.
URL:https://sladst1913.com/event/sla-chapter-meeting-2/2028-12-02/
LOCATION:Carr Lane VPA Middle School\, 1004 N. Jefferson\, Saint Louis\, MO\, 63106\, United States
CATEGORIES:Chapter Meeting
ATTACH;FMTTYPE=image/png:https://sladst1913.com/wp-content/uploads/2025/01/NewSLAlogo_Outline.png
ORGANIZER;CN="Tracey Carter%2C President":MAILTO:president.sladst@gmail.com
END:VEVENT
BEGIN:VEVENT
DTSTART;TZID=America/Chicago:20281223T100000
DTEND;TZID=America/Chicago:20281223T110000
DTSTAMP:20260420T133614
CREATED:20250912T205427Z
LAST-MODIFIED:20250912T205429Z
UID:10000087-1861178400-1861182000@sladst1913.com
SUMMARY:Executive Board Meeting
DESCRIPTION:
URL:https://sladst1913.com/event/executive-board-meeting-2/2028-12-23/
LOCATION:Missouri
ATTACH;FMTTYPE=image/png:https://sladst1913.com/wp-content/uploads/2025/01/NewSLAlogo_Outline.png
END:VEVENT
BEGIN:VEVENT
DTSTART;TZID=America/Chicago:20290106T130000
DTEND;TZID=America/Chicago:20290106T150000
DTSTAMP:20260420T133614
CREATED:20250519T170017Z
LAST-MODIFIED:20250912T211705Z
UID:10000153-1862398800-1862406000@sladst1913.com
SUMMARY:SLA Chapter Meeting
DESCRIPTION:Monthly Meeting of the Sorors of the Saint Louis Alumnae chapter of Delta Sigma Theta Sorority\, Inc.
URL:https://sladst1913.com/event/sla-chapter-meeting-2/2029-01-06/
LOCATION:Carr Lane VPA Middle School\, 1004 N. Jefferson\, Saint Louis\, MO\, 63106\, United States
CATEGORIES:Chapter Meeting
ATTACH;FMTTYPE=image/png:https://sladst1913.com/wp-content/uploads/2025/01/NewSLAlogo_Outline.png
ORGANIZER;CN="Tracey Carter%2C President":MAILTO:president.sladst@gmail.com
END:VEVENT
BEGIN:VEVENT
DTSTART;TZID=America/Chicago:20290127T100000
DTEND;TZID=America/Chicago:20290127T110000
DTSTAMP:20260420T133614
CREATED:20250912T205427Z
LAST-MODIFIED:20250912T205429Z
UID:10000088-1864202400-1864206000@sladst1913.com
SUMMARY:Executive Board Meeting
DESCRIPTION:
URL:https://sladst1913.com/event/executive-board-meeting-2/2029-01-27/
LOCATION:Missouri
ATTACH;FMTTYPE=image/png:https://sladst1913.com/wp-content/uploads/2025/01/NewSLAlogo_Outline.png
END:VEVENT
BEGIN:VEVENT
DTSTART;TZID=America/Chicago:20290203T130000
DTEND;TZID=America/Chicago:20290203T150000
DTSTAMP:20260420T133614
CREATED:20250519T170017Z
LAST-MODIFIED:20250912T211705Z
UID:10000154-1864818000-1864825200@sladst1913.com
SUMMARY:SLA Chapter Meeting
DESCRIPTION:Monthly Meeting of the Sorors of the Saint Louis Alumnae chapter of Delta Sigma Theta Sorority\, Inc.
URL:https://sladst1913.com/event/sla-chapter-meeting-2/2029-02-03/
LOCATION:Carr Lane VPA Middle School\, 1004 N. Jefferson\, Saint Louis\, MO\, 63106\, United States
CATEGORIES:Chapter Meeting
ATTACH;FMTTYPE=image/png:https://sladst1913.com/wp-content/uploads/2025/01/NewSLAlogo_Outline.png
ORGANIZER;CN="Tracey Carter%2C President":MAILTO:president.sladst@gmail.com
END:VEVENT
BEGIN:VEVENT
DTSTART;TZID=America/Chicago:20290224T100000
DTEND;TZID=America/Chicago:20290224T110000
DTSTAMP:20260420T133614
CREATED:20250912T205427Z
LAST-MODIFIED:20250912T205429Z
UID:10000089-1866621600-1866625200@sladst1913.com
SUMMARY:Executive Board Meeting
DESCRIPTION:
URL:https://sladst1913.com/event/executive-board-meeting-2/2029-02-24/
LOCATION:Missouri
ATTACH;FMTTYPE=image/png:https://sladst1913.com/wp-content/uploads/2025/01/NewSLAlogo_Outline.png
END:VEVENT
BEGIN:VEVENT
DTSTART;TZID=America/Chicago:20290303T130000
DTEND;TZID=America/Chicago:20290303T150000
DTSTAMP:20260420T133614
CREATED:20250519T170017Z
LAST-MODIFIED:20250912T211705Z
UID:10000155-1867237200-1867244400@sladst1913.com
SUMMARY:SLA Chapter Meeting
DESCRIPTION:Monthly Meeting of the Sorors of the Saint Louis Alumnae chapter of Delta Sigma Theta Sorority\, Inc.
URL:https://sladst1913.com/event/sla-chapter-meeting-2/2029-03-03/
LOCATION:Carr Lane VPA Middle School\, 1004 N. Jefferson\, Saint Louis\, MO\, 63106\, United States
CATEGORIES:Chapter Meeting
ATTACH;FMTTYPE=image/png:https://sladst1913.com/wp-content/uploads/2025/01/NewSLAlogo_Outline.png
ORGANIZER;CN="Tracey Carter%2C President":MAILTO:president.sladst@gmail.com
END:VEVENT
BEGIN:VEVENT
DTSTART;TZID=America/Chicago:20290324T100000
DTEND;TZID=America/Chicago:20290324T110000
DTSTAMP:20260420T133614
CREATED:20250912T205427Z
LAST-MODIFIED:20250912T205429Z
UID:10000090-1869040800-1869044400@sladst1913.com
SUMMARY:Executive Board Meeting
DESCRIPTION:
URL:https://sladst1913.com/event/executive-board-meeting-2/2029-03-24/
LOCATION:Missouri
ATTACH;FMTTYPE=image/png:https://sladst1913.com/wp-content/uploads/2025/01/NewSLAlogo_Outline.png
END:VEVENT
BEGIN:VEVENT
DTSTART;TZID=America/Chicago:20290407T130000
DTEND;TZID=America/Chicago:20290407T150000
DTSTAMP:20260420T133614
CREATED:20250519T170017Z
LAST-MODIFIED:20250912T211705Z
UID:10000156-1870261200-1870268400@sladst1913.com
SUMMARY:SLA Chapter Meeting
DESCRIPTION:Monthly Meeting of the Sorors of the Saint Louis Alumnae chapter of Delta Sigma Theta Sorority\, Inc.
URL:https://sladst1913.com/event/sla-chapter-meeting-2/2029-04-07/
LOCATION:Carr Lane VPA Middle School\, 1004 N. Jefferson\, Saint Louis\, MO\, 63106\, United States
CATEGORIES:Chapter Meeting
ATTACH;FMTTYPE=image/png:https://sladst1913.com/wp-content/uploads/2025/01/NewSLAlogo_Outline.png
ORGANIZER;CN="Tracey Carter%2C President":MAILTO:president.sladst@gmail.com
END:VEVENT
BEGIN:VEVENT
DTSTART;TZID=America/Chicago:20290428T100000
DTEND;TZID=America/Chicago:20290428T110000
DTSTAMP:20260420T133614
CREATED:20250912T205427Z
LAST-MODIFIED:20250912T205429Z
UID:10000091-1872064800-1872068400@sladst1913.com
SUMMARY:Executive Board Meeting
DESCRIPTION:
URL:https://sladst1913.com/event/executive-board-meeting-2/2029-04-28/
LOCATION:Missouri
ATTACH;FMTTYPE=image/png:https://sladst1913.com/wp-content/uploads/2025/01/NewSLAlogo_Outline.png
END:VEVENT
BEGIN:VEVENT
DTSTART;TZID=America/Chicago:20290505T130000
DTEND;TZID=America/Chicago:20290505T150000
DTSTAMP:20260420T133614
CREATED:20250519T170017Z
LAST-MODIFIED:20250912T211705Z
UID:10000157-1872680400-1872687600@sladst1913.com
SUMMARY:SLA Chapter Meeting
DESCRIPTION:Monthly Meeting of the Sorors of the Saint Louis Alumnae chapter of Delta Sigma Theta Sorority\, Inc.
URL:https://sladst1913.com/event/sla-chapter-meeting-2/2029-05-05/
LOCATION:Carr Lane VPA Middle School\, 1004 N. Jefferson\, Saint Louis\, MO\, 63106\, United States
CATEGORIES:Chapter Meeting
ATTACH;FMTTYPE=image/png:https://sladst1913.com/wp-content/uploads/2025/01/NewSLAlogo_Outline.png
ORGANIZER;CN="Tracey Carter%2C President":MAILTO:president.sladst@gmail.com
END:VEVENT
BEGIN:VEVENT
DTSTART;TZID=America/Chicago:20290526T100000
DTEND;TZID=America/Chicago:20290526T110000
DTSTAMP:20260420T133614
CREATED:20250912T205427Z
LAST-MODIFIED:20250912T205429Z
UID:10000092-1874484000-1874487600@sladst1913.com
SUMMARY:Executive Board Meeting
DESCRIPTION:
URL:https://sladst1913.com/event/executive-board-meeting-2/2029-05-26/
LOCATION:Missouri
ATTACH;FMTTYPE=image/png:https://sladst1913.com/wp-content/uploads/2025/01/NewSLAlogo_Outline.png
END:VEVENT
BEGIN:VEVENT
DTSTART;TZID=America/Chicago:20290602T130000
DTEND;TZID=America/Chicago:20290602T150000
DTSTAMP:20260420T133614
CREATED:20250519T170017Z
LAST-MODIFIED:20250912T211705Z
UID:10000158-1875099600-1875106800@sladst1913.com
SUMMARY:SLA Chapter Meeting
DESCRIPTION:Monthly Meeting of the Sorors of the Saint Louis Alumnae chapter of Delta Sigma Theta Sorority\, Inc.
URL:https://sladst1913.com/event/sla-chapter-meeting-2/2029-06-02/
LOCATION:Carr Lane VPA Middle School\, 1004 N. Jefferson\, Saint Louis\, MO\, 63106\, United States
CATEGORIES:Chapter Meeting
ATTACH;FMTTYPE=image/png:https://sladst1913.com/wp-content/uploads/2025/01/NewSLAlogo_Outline.png
ORGANIZER;CN="Tracey Carter%2C President":MAILTO:president.sladst@gmail.com
END:VEVENT
BEGIN:VEVENT
DTSTART;TZID=America/Chicago:20290623T100000
DTEND;TZID=America/Chicago:20290623T110000
DTSTAMP:20260420T133614
CREATED:20250912T205427Z
LAST-MODIFIED:20250912T205429Z
UID:10000093-1876903200-1876906800@sladst1913.com
SUMMARY:Executive Board Meeting
DESCRIPTION:
URL:https://sladst1913.com/event/executive-board-meeting-2/2029-06-23/
LOCATION:Missouri
ATTACH;FMTTYPE=image/png:https://sladst1913.com/wp-content/uploads/2025/01/NewSLAlogo_Outline.png
END:VEVENT
BEGIN:VEVENT
DTSTART;TZID=America/Chicago:20290707T130000
DTEND;TZID=America/Chicago:20290707T150000
DTSTAMP:20260420T133614
CREATED:20250519T170017Z
LAST-MODIFIED:20250912T211705Z
UID:10000159-1878123600-1878130800@sladst1913.com
SUMMARY:SLA Chapter Meeting
DESCRIPTION:Monthly Meeting of the Sorors of the Saint Louis Alumnae chapter of Delta Sigma Theta Sorority\, Inc.
URL:https://sladst1913.com/event/sla-chapter-meeting-2/2029-07-07/
LOCATION:Carr Lane VPA Middle School\, 1004 N. Jefferson\, Saint Louis\, MO\, 63106\, United States
CATEGORIES:Chapter Meeting
ATTACH;FMTTYPE=image/png:https://sladst1913.com/wp-content/uploads/2025/01/NewSLAlogo_Outline.png
ORGANIZER;CN="Tracey Carter%2C President":MAILTO:president.sladst@gmail.com
END:VEVENT
BEGIN:VEVENT
DTSTART;TZID=America/Chicago:20290728T100000
DTEND;TZID=America/Chicago:20290728T110000
DTSTAMP:20260420T133614
CREATED:20250912T205427Z
LAST-MODIFIED:20250912T205429Z
UID:10000094-1879927200-1879930800@sladst1913.com
SUMMARY:Executive Board Meeting
DESCRIPTION:
URL:https://sladst1913.com/event/executive-board-meeting-2/2029-07-28/
LOCATION:Missouri
ATTACH;FMTTYPE=image/png:https://sladst1913.com/wp-content/uploads/2025/01/NewSLAlogo_Outline.png
END:VEVENT
BEGIN:VEVENT
DTSTART;TZID=America/Chicago:20290804T130000
DTEND;TZID=America/Chicago:20290804T150000
DTSTAMP:20260420T133614
CREATED:20250519T170017Z
LAST-MODIFIED:20250912T211705Z
UID:10000160-1880542800-1880550000@sladst1913.com
SUMMARY:SLA Chapter Meeting
DESCRIPTION:Monthly Meeting of the Sorors of the Saint Louis Alumnae chapter of Delta Sigma Theta Sorority\, Inc.
URL:https://sladst1913.com/event/sla-chapter-meeting-2/2029-08-04/
LOCATION:Carr Lane VPA Middle School\, 1004 N. Jefferson\, Saint Louis\, MO\, 63106\, United States
CATEGORIES:Chapter Meeting
ATTACH;FMTTYPE=image/png:https://sladst1913.com/wp-content/uploads/2025/01/NewSLAlogo_Outline.png
ORGANIZER;CN="Tracey Carter%2C President":MAILTO:president.sladst@gmail.com
END:VEVENT
BEGIN:VEVENT
DTSTART;TZID=America/Chicago:20290825T100000
DTEND;TZID=America/Chicago:20290825T110000
DTSTAMP:20260420T133614
CREATED:20250912T205427Z
LAST-MODIFIED:20250912T205429Z
UID:10000095-1882346400-1882350000@sladst1913.com
SUMMARY:Executive Board Meeting
DESCRIPTION:
URL:https://sladst1913.com/event/executive-board-meeting-2/2029-08-25/
LOCATION:Missouri
ATTACH;FMTTYPE=image/png:https://sladst1913.com/wp-content/uploads/2025/01/NewSLAlogo_Outline.png
END:VEVENT
BEGIN:VEVENT
DTSTART;TZID=America/Chicago:20290901T130000
DTEND;TZID=America/Chicago:20290901T150000
DTSTAMP:20260420T133614
CREATED:20250519T170017Z
LAST-MODIFIED:20250912T211705Z
UID:10000161-1882962000-1882969200@sladst1913.com
SUMMARY:SLA Chapter Meeting
DESCRIPTION:Monthly Meeting of the Sorors of the Saint Louis Alumnae chapter of Delta Sigma Theta Sorority\, Inc.
URL:https://sladst1913.com/event/sla-chapter-meeting-2/2029-09-01/
LOCATION:Carr Lane VPA Middle School\, 1004 N. Jefferson\, Saint Louis\, MO\, 63106\, United States
CATEGORIES:Chapter Meeting
ATTACH;FMTTYPE=image/png:https://sladst1913.com/wp-content/uploads/2025/01/NewSLAlogo_Outline.png
ORGANIZER;CN="Tracey Carter%2C President":MAILTO:president.sladst@gmail.com
END:VEVENT
BEGIN:VEVENT
DTSTART;TZID=America/Chicago:20290922T100000
DTEND;TZID=America/Chicago:20290922T110000
DTSTAMP:20260420T133614
CREATED:20250912T205427Z
LAST-MODIFIED:20250912T205429Z
UID:10000096-1884765600-1884769200@sladst1913.com
SUMMARY:Executive Board Meeting
DESCRIPTION:
URL:https://sladst1913.com/event/executive-board-meeting-2/2029-09-22/
LOCATION:Missouri
ATTACH;FMTTYPE=image/png:https://sladst1913.com/wp-content/uploads/2025/01/NewSLAlogo_Outline.png
END:VEVENT
BEGIN:VEVENT
DTSTART;TZID=America/Chicago:20291006T130000
DTEND;TZID=America/Chicago:20291006T150000
DTSTAMP:20260420T133614
CREATED:20250519T170017Z
LAST-MODIFIED:20250912T211705Z
UID:10000162-1885986000-1885993200@sladst1913.com
SUMMARY:SLA Chapter Meeting
DESCRIPTION:Monthly Meeting of the Sorors of the Saint Louis Alumnae chapter of Delta Sigma Theta Sorority\, Inc.
URL:https://sladst1913.com/event/sla-chapter-meeting-2/2029-10-06/
LOCATION:Carr Lane VPA Middle School\, 1004 N. Jefferson\, Saint Louis\, MO\, 63106\, United States
CATEGORIES:Chapter Meeting
ATTACH;FMTTYPE=image/png:https://sladst1913.com/wp-content/uploads/2025/01/NewSLAlogo_Outline.png
ORGANIZER;CN="Tracey Carter%2C President":MAILTO:president.sladst@gmail.com
END:VEVENT
BEGIN:VEVENT
DTSTART;TZID=America/Chicago:20291027T100000
DTEND;TZID=America/Chicago:20291027T110000
DTSTAMP:20260420T133614
CREATED:20250912T205427Z
LAST-MODIFIED:20250912T205429Z
UID:10000097-1887789600-1887793200@sladst1913.com
SUMMARY:Executive Board Meeting
DESCRIPTION:
URL:https://sladst1913.com/event/executive-board-meeting-2/2029-10-27/
LOCATION:Missouri
ATTACH;FMTTYPE=image/png:https://sladst1913.com/wp-content/uploads/2025/01/NewSLAlogo_Outline.png
END:VEVENT
BEGIN:VEVENT
DTSTART;TZID=America/Chicago:20291103T130000
DTEND;TZID=America/Chicago:20291103T150000
DTSTAMP:20260420T133614
CREATED:20250519T170017Z
LAST-MODIFIED:20250912T211705Z
UID:10000163-1888405200-1888412400@sladst1913.com
SUMMARY:SLA Chapter Meeting
DESCRIPTION:Monthly Meeting of the Sorors of the Saint Louis Alumnae chapter of Delta Sigma Theta Sorority\, Inc.
URL:https://sladst1913.com/event/sla-chapter-meeting-2/2029-11-03/
LOCATION:Carr Lane VPA Middle School\, 1004 N. Jefferson\, Saint Louis\, MO\, 63106\, United States
CATEGORIES:Chapter Meeting
ATTACH;FMTTYPE=image/png:https://sladst1913.com/wp-content/uploads/2025/01/NewSLAlogo_Outline.png
ORGANIZER;CN="Tracey Carter%2C President":MAILTO:president.sladst@gmail.com
END:VEVENT
BEGIN:VEVENT
DTSTART;TZID=America/Chicago:20291124T100000
DTEND;TZID=America/Chicago:20291124T110000
DTSTAMP:20260420T133614
CREATED:20250912T205427Z
LAST-MODIFIED:20250912T205429Z
UID:10000098-1890208800-1890212400@sladst1913.com
SUMMARY:Executive Board Meeting
DESCRIPTION:
URL:https://sladst1913.com/event/executive-board-meeting-2/2029-11-24/
LOCATION:Missouri
ATTACH;FMTTYPE=image/png:https://sladst1913.com/wp-content/uploads/2025/01/NewSLAlogo_Outline.png
END:VEVENT
BEGIN:VEVENT
DTSTART;TZID=America/Chicago:20291201T130000
DTEND;TZID=America/Chicago:20291201T150000
DTSTAMP:20260420T133614
CREATED:20250519T170017Z
LAST-MODIFIED:20250912T211705Z
UID:10000164-1890824400-1890831600@sladst1913.com
SUMMARY:SLA Chapter Meeting
DESCRIPTION:Monthly Meeting of the Sorors of the Saint Louis Alumnae chapter of Delta Sigma Theta Sorority\, Inc.
URL:https://sladst1913.com/event/sla-chapter-meeting-2/2029-12-01/
LOCATION:Carr Lane VPA Middle School\, 1004 N. Jefferson\, Saint Louis\, MO\, 63106\, United States
CATEGORIES:Chapter Meeting
ATTACH;FMTTYPE=image/png:https://sladst1913.com/wp-content/uploads/2025/01/NewSLAlogo_Outline.png
ORGANIZER;CN="Tracey Carter%2C President":MAILTO:president.sladst@gmail.com
END:VEVENT
BEGIN:VEVENT
DTSTART;TZID=America/Chicago:20291222T100000
DTEND;TZID=America/Chicago:20291222T110000
DTSTAMP:20260420T133614
CREATED:20250912T205427Z
LAST-MODIFIED:20250912T205429Z
UID:10000099-1892628000-1892631600@sladst1913.com
SUMMARY:Executive Board Meeting
DESCRIPTION:
URL:https://sladst1913.com/event/executive-board-meeting-2/2029-12-22/
LOCATION:Missouri
ATTACH;FMTTYPE=image/png:https://sladst1913.com/wp-content/uploads/2025/01/NewSLAlogo_Outline.png
END:VEVENT
BEGIN:VEVENT
DTSTART;TZID=America/Chicago:20300105T130000
DTEND;TZID=America/Chicago:20300105T150000
DTSTAMP:20260420T133614
CREATED:20250519T170017Z
LAST-MODIFIED:20250912T211705Z
UID:10000165-1893848400-1893855600@sladst1913.com
SUMMARY:SLA Chapter Meeting
DESCRIPTION:Monthly Meeting of the Sorors of the Saint Louis Alumnae chapter of Delta Sigma Theta Sorority\, Inc.
URL:https://sladst1913.com/event/sla-chapter-meeting-2/2030-01-05/
LOCATION:Carr Lane VPA Middle School\, 1004 N. Jefferson\, Saint Louis\, MO\, 63106\, United States
CATEGORIES:Chapter Meeting
ATTACH;FMTTYPE=image/png:https://sladst1913.com/wp-content/uploads/2025/01/NewSLAlogo_Outline.png
ORGANIZER;CN="Tracey Carter%2C President":MAILTO:president.sladst@gmail.com
END:VEVENT
BEGIN:VEVENT
DTSTART;TZID=America/Chicago:20300126T100000
DTEND;TZID=America/Chicago:20300126T110000
DTSTAMP:20260420T133614
CREATED:20250912T205427Z
LAST-MODIFIED:20250912T205429Z
UID:10000100-1895652000-1895655600@sladst1913.com
SUMMARY:Executive Board Meeting
DESCRIPTION:
URL:https://sladst1913.com/event/executive-board-meeting-2/2030-01-26/
LOCATION:Missouri
ATTACH;FMTTYPE=image/png:https://sladst1913.com/wp-content/uploads/2025/01/NewSLAlogo_Outline.png
END:VEVENT
BEGIN:VEVENT
DTSTART;TZID=America/Chicago:20300202T130000
DTEND;TZID=America/Chicago:20300202T150000
DTSTAMP:20260420T133614
CREATED:20250519T170017Z
LAST-MODIFIED:20250912T211705Z
UID:10000166-1896267600-1896274800@sladst1913.com
SUMMARY:SLA Chapter Meeting
DESCRIPTION:Monthly Meeting of the Sorors of the Saint Louis Alumnae chapter of Delta Sigma Theta Sorority\, Inc.
URL:https://sladst1913.com/event/sla-chapter-meeting-2/2030-02-02/
LOCATION:Carr Lane VPA Middle School\, 1004 N. Jefferson\, Saint Louis\, MO\, 63106\, United States
CATEGORIES:Chapter Meeting
ATTACH;FMTTYPE=image/png:https://sladst1913.com/wp-content/uploads/2025/01/NewSLAlogo_Outline.png
ORGANIZER;CN="Tracey Carter%2C President":MAILTO:president.sladst@gmail.com
END:VEVENT
END:VCALENDAR