BEGIN:VCALENDAR
VERSION:2.0
PRODID:-//Saint Louis Alumnae Chapter of Delta Sigma Theta Sorority, Inc. - ECPv6.15.20//NONSGML v1.0//EN
CALSCALE:GREGORIAN
METHOD:PUBLISH
X-WR-CALNAME:Saint Louis Alumnae Chapter of Delta Sigma Theta Sorority, Inc.
X-ORIGINAL-URL:https://sladst1913.com
X-WR-CALDESC:Events for Saint Louis Alumnae Chapter of Delta Sigma Theta Sorority, Inc.
REFRESH-INTERVAL;VALUE=DURATION:PT1H
X-Robots-Tag:noindex
X-PUBLISHED-TTL:PT1H
BEGIN:VTIMEZONE
TZID:America/Chicago
BEGIN:DAYLIGHT
TZOFFSETFROM:-0600
TZOFFSETTO:-0500
TZNAME:CDT
DTSTART:20240310T080000
END:DAYLIGHT
BEGIN:STANDARD
TZOFFSETFROM:-0500
TZOFFSETTO:-0600
TZNAME:CST
DTSTART:20241103T070000
END:STANDARD
BEGIN:DAYLIGHT
TZOFFSETFROM:-0600
TZOFFSETTO:-0500
TZNAME:CDT
DTSTART:20250309T080000
END:DAYLIGHT
BEGIN:STANDARD
TZOFFSETFROM:-0500
TZOFFSETTO:-0600
TZNAME:CST
DTSTART:20251102T070000
END:STANDARD
BEGIN:DAYLIGHT
TZOFFSETFROM:-0600
TZOFFSETTO:-0500
TZNAME:CDT
DTSTART:20260308T080000
END:DAYLIGHT
BEGIN:STANDARD
TZOFFSETFROM:-0500
TZOFFSETTO:-0600
TZNAME:CST
DTSTART:20261101T070000
END:STANDARD
BEGIN:DAYLIGHT
TZOFFSETFROM:-0600
TZOFFSETTO:-0500
TZNAME:CDT
DTSTART:20270314T080000
END:DAYLIGHT
BEGIN:STANDARD
TZOFFSETFROM:-0500
TZOFFSETTO:-0600
TZNAME:CST
DTSTART:20271107T070000
END:STANDARD
END:VTIMEZONE
BEGIN:VEVENT
DTSTART;TZID=America/Chicago:20260207T130000
DTEND;TZID=America/Chicago:20260207T150000
DTSTAMP:20260420T163315
CREATED:20251101T191309Z
LAST-MODIFIED:20251101T191314Z
UID:10000121-1770469200-1770476400@sladst1913.com
SUMMARY:SLA Chapter Meeting (Virtual)
DESCRIPTION:Monthly Meeting of the Sorors of the Saint Louis Alumnae chapter of Delta Sigma Theta Sorority\, Inc.
URL:https://sladst1913.com/event/sla-chapter-meeting-3/
LOCATION:Carr Lane VPA Middle School\, 1004 N. Jefferson\, Saint Louis\, MO\, 63106\, United States
CATEGORIES:Chapter Meeting
ATTACH;FMTTYPE=image/png:https://sladst1913.com/wp-content/uploads/2025/01/NewSLAlogo_Outline.png
ORGANIZER;CN="Tracey Carter%2C President":MAILTO:president.sladst@gmail.com
END:VEVENT
BEGIN:VEVENT
DTSTART;TZID=America/Chicago:20260204T183000
DTEND;TZID=America/Chicago:20260204T200000
DTSTAMP:20260420T163315
CREATED:20250912T210633Z
LAST-MODIFIED:20250912T210639Z
UID:10000112-1770229800-1770235200@sladst1913.com
SUMMARY:Parliamentary Study Group
DESCRIPTION:Are you interested in holding a leadership position and/or would you like to learn more about chapter operations? Participate in the Parliamentary Study Group (PSG). \n\n\n\n via 👉🏽  Zoom. \n\n\n\nQuestions? Want to sign-up for PSG? \n\n\n\nContact Parliamentarian Glenise Cloudy at \n\n\n\n314-629-9153. \n\n\n\nBecome an informed member!
URL:https://sladst1913.com/event/parliamentary-study-group-3/2026-02-04/
LOCATION:Missouri
ATTACH;FMTTYPE=image/png:https://sladst1913.com/wp-content/uploads/2024/10/Parliamentarian-SLA-v2.png
END:VEVENT
BEGIN:VEVENT
DTSTART;TZID=America/Chicago:20260129T193000
DTEND;TZID=America/Chicago:20260129T210000
DTSTAMP:20260420T163315
CREATED:20260121T032954Z
LAST-MODIFIED:20260121T032958Z
UID:10000324-1769715000-1769720400@sladst1913.com
SUMMARY:Refresh with the Regional Rep!
DESCRIPTION:Sorors\, I warmly invite you to join me in Refresh with the Rep\, a series dedicated to revisiting our governing documents and resources. Let’s refresh our purpose and deepen our understanding as proud Sorors of Delta Sigma Theta\, empowering us to be stronger and more effective members. \n\n\n\nFirst discussion \n\n\n\nChapter Management Handbook\, Section VI Chapter Structure pg. 79-83 \n\n\n\nJoin me on January 29\, 2026\, at 7:30 pm CST/6:30 pm MST. Register HERE!
URL:https://sladst1913.com/event/refresh-with-the-regional-rep/
LOCATION:Missouri
ATTACH;FMTTYPE=image/jpeg:https://sladst1913.com/wp-content/uploads/2026/01/Refresh-with-Rep.jpeg
END:VEVENT
BEGIN:VEVENT
DTSTART;TZID=America/Chicago:20260127T190000
DTEND;TZID=America/Chicago:20260127T203000
DTSTAMP:20260420T163315
CREATED:20260108T195404Z
LAST-MODIFIED:20260108T195924Z
UID:10000317-1769540400-1769545800@sladst1913.com
SUMMARY:The Greatest of These is Love! Central Region Founders Day Series
DESCRIPTION:We are pleased to announce the Central Region Founders Day Series\, “The Greatest of These is Love.” All of our esteemed Past National Presidents will bring us messages detailing how leading with love shaped their leadership decisions throughout their presidencies. We are also thrilled to announce that our International President and Chair\, Board of Directors\, Soror Cheryl W. Turner will bring our culminating message in the series. \n\n\n\nPlease join us for this series\, which will take place on select Tuesdays from January 2026 through March 2026. Please register for all of the sessions using the links below. \n\n\n\nJanuary 20\, 2026 – Cynthia M.A. Butler-McIntyre – REGISTERJanuary 27\, 2026 – Rev. Dr. Gwendolyn E. Boyd – REGISTERFebruary 10\, 2026 – Beverly E. Smith – REGISTERFebruary 17\, 2026 – Dr. Louise A. Rice – REGISTERFebruary 24\, 2026 – Hon. Marcia L. Fudge – REGISTERMarch 3\, 2026 – Elsie Cooke-Holmes – REGISTERMarch 10\, 2026 – Dr. Thelma T. Daley – REGISTERMarch 31\, 2026 – Cheryl W. Turner – REGISTER
URL:https://sladst1913.com/event/the-greatest-of-these-is-love-central-region-founders-day-series/2026-01-27/
LOCATION:Missouri
ATTACH;FMTTYPE=image/png:https://sladst1913.com/wp-content/uploads/2026/01/Greatest-of-these-is-Love-CR-series.png
END:VEVENT
BEGIN:VEVENT
DTSTART;TZID=America/Chicago:20260124T100000
DTEND;TZID=America/Chicago:20260124T110000
DTSTAMP:20260420T163315
CREATED:20250912T205427Z
LAST-MODIFIED:20250912T205429Z
UID:10000052-1769248800-1769252400@sladst1913.com
SUMMARY:Executive Board Meeting
DESCRIPTION:
URL:https://sladst1913.com/event/executive-board-meeting-2/2026-01-24/
LOCATION:Missouri
ATTACH;FMTTYPE=image/png:https://sladst1913.com/wp-content/uploads/2025/01/NewSLAlogo_Outline.png
END:VEVENT
BEGIN:VEVENT
DTSTART;TZID=America/Chicago:20260120T190000
DTEND;TZID=America/Chicago:20260120T203000
DTSTAMP:20260420T163315
CREATED:20260108T195404Z
LAST-MODIFIED:20260108T195924Z
UID:10000316-1768935600-1768941000@sladst1913.com
SUMMARY:The Greatest of These is Love! Central Region Founders Day Series
DESCRIPTION:We are pleased to announce the Central Region Founders Day Series\, “The Greatest of These is Love.” All of our esteemed Past National Presidents will bring us messages detailing how leading with love shaped their leadership decisions throughout their presidencies. We are also thrilled to announce that our International President and Chair\, Board of Directors\, Soror Cheryl W. Turner will bring our culminating message in the series. \n\n\n\nPlease join us for this series\, which will take place on select Tuesdays from January 2026 through March 2026. Please register for all of the sessions using the links below. \n\n\n\nJanuary 20\, 2026 – Cynthia M.A. Butler-McIntyre – REGISTERJanuary 27\, 2026 – Rev. Dr. Gwendolyn E. Boyd – REGISTERFebruary 10\, 2026 – Beverly E. Smith – REGISTERFebruary 17\, 2026 – Dr. Louise A. Rice – REGISTERFebruary 24\, 2026 – Hon. Marcia L. Fudge – REGISTERMarch 3\, 2026 – Elsie Cooke-Holmes – REGISTERMarch 10\, 2026 – Dr. Thelma T. Daley – REGISTERMarch 31\, 2026 – Cheryl W. Turner – REGISTER
URL:https://sladst1913.com/event/the-greatest-of-these-is-love-central-region-founders-day-series/2026-01-20/
LOCATION:Missouri
ATTACH;FMTTYPE=image/png:https://sladst1913.com/wp-content/uploads/2026/01/Greatest-of-these-is-Love-CR-series.png
END:VEVENT
BEGIN:VEVENT
DTSTART;TZID=America/Chicago:20260117T000000
DTEND;TZID=America/Chicago:20260117T235959
DTSTAMP:20260420T163315
CREATED:20250924T222941Z
LAST-MODIFIED:20250924T222946Z
UID:10000198-1768608000-1768694399@sladst1913.com
SUMMARY:Twinkles - New Year New Goals
DESCRIPTION:
URL:https://sladst1913.com/event/twinkles-new-year-new-goals/
LOCATION:Missouri
ATTACH;FMTTYPE=image/jpeg:https://sladst1913.com/wp-content/uploads/2025/09/PlanIcon__99554878-scaled.jpeg
END:VEVENT
BEGIN:VEVENT
DTSTART;TZID=America/Chicago:20260117T000000
DTEND;TZID=America/Chicago:20260117T235959
DTSTAMP:20260420T163315
CREATED:20250924T222826Z
LAST-MODIFIED:20250924T222828Z
UID:10000197-1768608000-1768694399@sladst1913.com
SUMMARY:Delta GEMS - Scholarship Prep Part 1
DESCRIPTION:
URL:https://sladst1913.com/event/delta-gems-scholarship-prep-part-1-2/
LOCATION:Missouri
ATTACH;FMTTYPE=image/jpeg:https://sladst1913.com/wp-content/uploads/2025/09/PlanIcon__99554878-scaled.jpeg
END:VEVENT
BEGIN:VEVENT
DTSTART;TZID=America/Chicago:20260117T000000
DTEND;TZID=America/Chicago:20260117T235959
DTSTAMP:20260420T163315
CREATED:20250924T222706Z
LAST-MODIFIED:20250924T222710Z
UID:10000196-1768608000-1768694399@sladst1913.com
SUMMARY:Delta Academy And Action!
DESCRIPTION:
URL:https://sladst1913.com/event/delta-academy-and-action/
LOCATION:Missouri
ATTACH;FMTTYPE=image/jpeg:https://sladst1913.com/wp-content/uploads/2025/09/PlanIcon__99554878-scaled.jpeg
END:VEVENT
BEGIN:VEVENT
DTSTART;TZID=America/Chicago:20260111T180000
DTEND;TZID=America/Chicago:20260111T193000
DTSTAMP:20260420T163315
CREATED:20251206T142901Z
LAST-MODIFIED:20251206T142907Z
UID:10000314-1768154400-1768159800@sladst1913.com
SUMMARY:113th Founders Day (National Observance Program)
DESCRIPTION:Please join us on Sunday\, January 11\, at 6:00 pm CST for a national virtual Founders Day celebration. More details to come as we look forward to celebrating 113 years of sisterhood\, scholarship\, service\, and social action! \n\n\n\n#DST113 will reconnect every Delta woman with the WHY of our founding and the purpose that continues to propel our work forward. Under the theme “Anchored in Legacy\, Evolving with Intention\,” our Founders Day observance will honor the 22 trailblazers who charted our beginnings and celebrate the Delta women who have preserved and expanded our legacy. As we honor their legacy\, we recommit ourselves to evolving with clarity\, courage\, and conviction.
URL:https://sladst1913.com/event/113th-founders-day-national-observance-program/
LOCATION:Missouri
ATTACH;FMTTYPE=image/png:https://sladst1913.com/wp-content/uploads/2025/12/National-Founders-Day-113th.png
END:VEVENT
BEGIN:VEVENT
DTSTART;TZID=America/Chicago:20260107T190000
DTEND;TZID=America/Chicago:20260107T200000
DTSTAMP:20260420T163315
CREATED:20260103T202801Z
LAST-MODIFIED:20260103T203440Z
UID:10000315-1767812400-1767816000@sladst1913.com
SUMMARY:Central Region Nominating Nuggets
DESCRIPTION:Nominations Nuggets \n\n\n\nPlease see the information below from the Central Region Nominating Committee. Please join the Call for Nominations Webinar on January 7\, 2026\, at 7:30 pm CST/6:30 pm MST. Please contact Soror Dellarie Johnson\, Central Region Nominating Chair\, at djohnson@deltasigmatheta.org for any questions.
URL:https://sladst1913.com/event/central-region-nominating-nuggets/
LOCATION:Missouri
ATTACH;FMTTYPE=image/jpeg:https://sladst1913.com/wp-content/uploads/2026/01/2026-Nominations-Nuggets.jpg
END:VEVENT
BEGIN:VEVENT
DTSTART;TZID=America/Chicago:20260103T130000
DTEND;TZID=America/Chicago:20260103T150000
DTSTAMP:20260420T163315
CREATED:20250519T170017Z
LAST-MODIFIED:20250912T211705Z
UID:10000120-1767445200-1767452400@sladst1913.com
SUMMARY:SLA Chapter Meeting
DESCRIPTION:Monthly Meeting of the Sorors of the Saint Louis Alumnae chapter of Delta Sigma Theta Sorority\, Inc.
URL:https://sladst1913.com/event/sla-chapter-meeting-2/2026-01-03/
LOCATION:Carr Lane VPA Middle School\, 1004 N. Jefferson\, Saint Louis\, MO\, 63106\, United States
CATEGORIES:Chapter Meeting
ATTACH;FMTTYPE=image/png:https://sladst1913.com/wp-content/uploads/2025/01/NewSLAlogo_Outline.png
ORGANIZER;CN="Tracey Carter%2C President":MAILTO:president.sladst@gmail.com
END:VEVENT
BEGIN:VEVENT
DTSTART;TZID=America/Chicago:20251231T183000
DTEND;TZID=America/Chicago:20251231T200000
DTSTAMP:20260420T163315
CREATED:20250912T210633Z
LAST-MODIFIED:20250912T210639Z
UID:10000111-1767205800-1767211200@sladst1913.com
SUMMARY:Parliamentary Study Group
DESCRIPTION:Are you interested in holding a leadership position and/or would you like to learn more about chapter operations? Participate in the Parliamentary Study Group (PSG). \n\n\n\n via 👉🏽  Zoom. \n\n\n\nQuestions? Want to sign-up for PSG? \n\n\n\nContact Parliamentarian Glenise Cloudy at \n\n\n\n314-629-9153. \n\n\n\nBecome an informed member!
URL:https://sladst1913.com/event/parliamentary-study-group-3/2025-12-31/
LOCATION:Missouri
ATTACH;FMTTYPE=image/png:https://sladst1913.com/wp-content/uploads/2024/10/Parliamentarian-SLA-v2.png
END:VEVENT
BEGIN:VEVENT
DTSTART;TZID=America/Chicago:20251227T100000
DTEND;TZID=America/Chicago:20251227T110000
DTSTAMP:20260420T163315
CREATED:20250912T205427Z
LAST-MODIFIED:20250912T205429Z
UID:10000051-1766829600-1766833200@sladst1913.com
SUMMARY:Executive Board Meeting
DESCRIPTION:
URL:https://sladst1913.com/event/executive-board-meeting-2/2025-12-27/
LOCATION:Missouri
ATTACH;FMTTYPE=image/png:https://sladst1913.com/wp-content/uploads/2025/01/NewSLAlogo_Outline.png
END:VEVENT
BEGIN:VEVENT
DTSTART;TZID=America/Chicago:20251227T000000
DTEND;TZID=America/Chicago:20251227T235959
DTSTAMP:20260420T163315
CREATED:20250924T222529Z
LAST-MODIFIED:20250924T222532Z
UID:10000195-1766793600-1766879999@sladst1913.com
SUMMARY:Winter Wonderland Christmas Celebration
DESCRIPTION:
URL:https://sladst1913.com/event/winter-wonderland-christmas-celebration/
LOCATION:Missouri
ATTACH;FMTTYPE=image/jpeg:https://sladst1913.com/wp-content/uploads/2025/09/PlanIcon__99554878-scaled.jpeg
END:VEVENT
BEGIN:VEVENT
DTSTART;TZID=America/Chicago:20251220T000000
DTEND;TZID=America/Chicago:20251220T235959
DTSTAMP:20260420T163315
CREATED:20250924T222402Z
LAST-MODIFIED:20250924T222407Z
UID:10000194-1766188800-1766275199@sladst1913.com
SUMMARY:Delta GEMS - Cocoa & Cookies Social
DESCRIPTION:
URL:https://sladst1913.com/event/delta-gems-cocoa-cookies-social/
LOCATION:Missouri
ATTACH;FMTTYPE=image/jpeg:https://sladst1913.com/wp-content/uploads/2025/09/PlanIcon__99554878-scaled.jpeg
END:VEVENT
BEGIN:VEVENT
DTSTART;TZID=America/Chicago:20251220T000000
DTEND;TZID=America/Chicago:20251220T235959
DTSTAMP:20260420T163315
CREATED:20250924T222138Z
LAST-MODIFIED:20250924T222141Z
UID:10000193-1766188800-1766275199@sladst1913.com
SUMMARY:Delta Academy Purpose & Planning
DESCRIPTION:
URL:https://sladst1913.com/event/delta-academy-purpose-planning/
LOCATION:Missouri
ATTACH;FMTTYPE=image/jpeg:https://sladst1913.com/wp-content/uploads/2025/09/PlanIcon__99554878-scaled.jpeg
END:VEVENT
BEGIN:VEVENT
DTSTART;TZID=America/Chicago:20251219T193000
DTEND;TZID=America/Chicago:20251219T220000
DTSTAMP:20260420T163315
CREATED:20250912T221438Z
LAST-MODIFIED:20250912T222834Z
UID:10000174-1766172600-1766181600@sladst1913.com
SUMMARY:A Night Out with St Louis Symphony In Unison Chorus & The Clark Sisters
DESCRIPTION:Limited tickets for sale. First come. First served. \n\n\n\nPurchase tickets using link below.\nhttps://form.jotform.com/SLADST1913/symphony
URL:https://sladst1913.com/event/a-night-out-with-st-louis-symphony-in-unison-chorus-the-clark-sisters/
LOCATION:Powell Hall\, 718 N. Grand Blvd\, Saint Louis\, Missouri\, 63103
CATEGORIES:Arts & Letters
ATTACH;FMTTYPE=image/png:https://sladst1913.com/wp-content/uploads/2025/09/Arts-Symphony.png
ORGANIZER;CN="Arts & Letters":MAILTO:ArtsLetters.sladst@gmail.com
END:VEVENT
BEGIN:VEVENT
DTSTART;TZID=America/Chicago:20251217T190000
DTEND;TZID=America/Chicago:20251217T200000
DTSTAMP:20260420T163315
CREATED:20251206T020953Z
LAST-MODIFIED:20251206T021003Z
UID:10000312-1765998000-1766001600@sladst1913.com
SUMMARY:Regional Social Action Workshop: Follow the Bill: A Workshop on Tracking Legislation
DESCRIPTION:Join the Regional Social Action Committee for a workshop titled Follow the Bill: A Workshop on Tracking Legislation. This workshop\, which takes place on Wednesday\, December 17\, 2025\, at 7 pm CST/ 6 pm MST\, is primarily for Social Action chairs and committee members\, but any soror interested in learning more about how legislation works can join. Register using the link here. https://deltasigmatheta-org.zoom.us/meeting/register/pMDSGsNkT8q8b2IcBahwkA#/registration
URL:https://sladst1913.com/event/regional-social-action-workshop-follow-the-bill-a-workshop-on-tracking-legislation/
LOCATION:Missouri
ATTACH;FMTTYPE=image/jpeg:https://sladst1913.com/wp-content/uploads/2025/12/Central-Region-For-Central-Logo.jpeg
END:VEVENT
BEGIN:VEVENT
DTSTART;TZID=America/Chicago:20251217T000000
DTEND;TZID=America/Chicago:20251217T235959
DTSTAMP:20260420T163315
CREATED:20250924T221949Z
LAST-MODIFIED:20251206T024404Z
UID:10000192-1765929600-1766015999@sladst1913.com
SUMMARY:Policies and Procedures Intro Workshop
DESCRIPTION:
URL:https://sladst1913.com/event/policies-and-procedures-intro-workshop/
LOCATION:Missouri
ATTACH;FMTTYPE=image/jpeg:https://sladst1913.com/wp-content/uploads/2025/09/PlanIcon__99554878-scaled.jpeg
END:VEVENT
BEGIN:VEVENT
DTSTART;TZID=America/Chicago:20251215T190000
DTEND;TZID=America/Chicago:20251215T203000
DTSTAMP:20260420T163315
CREATED:20251206T020357Z
LAST-MODIFIED:20251206T020447Z
UID:10000311-1765825200-1765830600@sladst1913.com
SUMMARY:Crowning Joy: A Sisterhood Holiday Soirée (Regional Event)
DESCRIPTION:As we prepare to gather in the spirit of joy\, fellowship\, and holiday sparkle\, we are delighted to invite you to our themed holiday event\, “Crowning Joy: A Sisterhood Holiday Soirée.” Our celebration will shine as brightly as our cherished sisterhood on Monday\, December 15\, 2026\, at 7 pm CT/ 6:00 pm MT! \n\n\n\nWe encourage you to showcase your holiday spirit with festive headgear such as Delta crowns\, holiday fascinators\, seasonal hats\, reindeer antlers\, or crimson and cream holiday hats\, just to name a few. Whether bold\, whimsical\, or elegant\, let your “crown” reflect the joy and sisterhood we share this season. \n\n\n\nOf course\, no soirée is complete without a little fun! Get ready for a holiday game and exciting gift card giveaways. \n\n\n\nLet’s celebrate with style\, unity\, and the radiant spirit of Delta! We cannot wait to enjoy this special moment with each of you. Register using the link here.  https://deltasigmatheta-org.zoom.us/meeting/register/dfDK00gPSE-6qkcXFUodIw#/registration
URL:https://sladst1913.com/event/crowning-joy-a-sisterhood-holiday-soiree/
LOCATION:Missouri
ATTACH;FMTTYPE=image/jpeg:https://sladst1913.com/wp-content/uploads/2025/12/Central-Region-Holiday-Soiree.jpeg
END:VEVENT
BEGIN:VEVENT
DTSTART;TZID=America/Chicago:20251214T180000
DTEND;TZID=America/Chicago:20251214T200000
DTSTAMP:20260420T163315
CREATED:20251206T142438Z
LAST-MODIFIED:20251206T142457Z
UID:10000313-1765735200-1765742400@sladst1913.com
SUMMARY:A Joyful Celebration: A Holiday Concert of Delta Performing and Visual Arts (National Event)
DESCRIPTION:As we embrace the warmth and meaning of this special season\, we invite you to join us for our Annual Holiday Concert. \n\n\n\nOn Sunday\, December 14\, 2025\, at 6:00 PM (CST)\, the National Arts and Letters Commission will present a virtual holiday experience featuring seasonal performances and visual presentations by gifted Delta artists from the Delta Artist Registry. \n\n\n\nThis celebration will highlight the talents of our sisters and include special greetings from our International President and Chair of the Board of Directors\, Cheryl W. Turner as we celebrate the year’s blessings and welcome the promise of 2026. \n\n\n\nRegister here: https://deltasigmatheta-org.zoom.us/webinar/register/WN_COXZdCYaRzG9u0tCj-CQTw#/registration
URL:https://sladst1913.com/event/a-joyful-celebration-a-holiday-concert-of-delta-performing-and-visual-arts-national-event/
LOCATION:Missouri
ATTACH;FMTTYPE=image/png:https://sladst1913.com/wp-content/uploads/2025/12/A-Joyful-Celebration-National-Arts-Letters.png
END:VEVENT
BEGIN:VEVENT
DTSTART;TZID=America/Chicago:20251213T090000
DTEND;TZID=America/Chicago:20251213T120000
DTSTAMP:20260420T163315
CREATED:20250912T194929Z
LAST-MODIFIED:20251206T011421Z
UID:10000042-1765616400-1765627200@sladst1913.com
SUMMARY:Saint Louis Alumnae Breakfast with Santa
DESCRIPTION:The Saint Louis Alumnae Chapter of Delta Sigma Theta Sorority\, Inc. organizes Breakfast with Santa to bring the magic of Christmas to underserved communities. This event is designed to give children ages 12 and under a memorable experience\, providing them with hope during the holiday season. They can meet Santa\, enjoy a hot breakfast\, and choose a special toy from Santa’s workshop\, creating a joyful and lasting memory.
URL:https://sladst1913.com/event/saint-louis-alumnae-breakfast-with-santa/
LOCATION:Carr Lane VPA Middle School\, 1004 N. Jefferson\, Saint Louis\, MO\, 63106\, United States
CATEGORIES:Featured Events
ATTACH;FMTTYPE=image/jpeg:https://sladst1913.com/wp-content/uploads/2025/12/BWS_Public.jpg
END:VEVENT
BEGIN:VEVENT
DTSTART;TZID=America/Chicago:20251212T080000
DTEND;TZID=America/Chicago:20251212T160000
DTSTAMP:20260420T163315
CREATED:20250925T005620Z
LAST-MODIFIED:20251206T011813Z
UID:10000233-1765526400-1765555200@sladst1913.com
SUMMARY:Delta Days at Saint Louis City Hall
DESCRIPTION:The Saint Louis Alumnae chapter invites members of Delta Sigma Theta to join us at St. Louis City Hall for Forward with Fortitude: Anchored in Our Legacy of Advocacy \n\n\n\nCalling all sorors in the Greater St. Louis area to St. Louis City Hall. \n\n\n\nLet us stand together in the spirit of sisterhood\, scholarship\, service\, and social action as we engage with civic leaders\, advocate for the communities we serve\, and demonstrate the power of Delta women united in purpose. \n\n\n\nForward With Fortitude: Anchored in Our Legacy of Advocacy \n\n\n\nCome dressed in your Delta RED for a day of learning\, engagement\, and advocacy with our appointed and elected officials in the City of St. Louis. Featuring a Lunch and Learn with Mayor Cara SpencerRegistration is $35 (plus processing fees). Register today (deadline: Monday\, December 8th) \n\n\n\nWe look forward to painting City Hall Delta RED! \n\n\n\nRegister here: https://bit.ly/SLADSTCityHall
URL:https://sladst1913.com/event/delta-days-at-saint-louis-city-hall/
LOCATION:Missouri
CATEGORIES:Featured Events
ATTACH;FMTTYPE=image/jpeg:https://sladst1913.com/wp-content/uploads/2025/12/Delta-Day-at-STL-City-Hall-2025-scaled.jpg
END:VEVENT
BEGIN:VEVENT
DTSTART;TZID=America/Chicago:20251211T190000
DTEND;TZID=America/Chicago:20251211T203000
DTSTAMP:20260420T163315
CREATED:20251206T014946Z
LAST-MODIFIED:20251206T194031Z
UID:10000309-1765479600-1765485000@sladst1913.com
SUMMARY:Talk Time with Tracey
DESCRIPTION:Topic: Membership Intake – How do you feel? \n\n\n\nIn this Talk Time with Tracey\, members will be encouraged to voice why they feel we should or should not participate in membership intake in the 2026-2027 sorority/program year. In this session the president will answer questions\, however will not share personal feelings or opinions.  \n\n\n\nAll chapter members are welcome to join President Tracey Carter for a candid conversation about all things Delta. \n\n\n\nRegistration is required.  https://us06web.zoom.us/meeting/register/avBoXA-ZSV2b9_LzbxtVKA#/registration
URL:https://sladst1913.com/event/talk-time-with-tracey-2/
LOCATION:Missouri
ATTACH;FMTTYPE=image/png:https://sladst1913.com/wp-content/uploads/2025/12/Dec-11-talk-time-w-tracey.png
END:VEVENT
BEGIN:VEVENT
DTSTART;TZID=America/Chicago:20251211T110000
DTEND;TZID=America/Chicago:20251211T130000
DTSTAMP:20260420T163315
CREATED:20251206T012505Z
LAST-MODIFIED:20251206T012516Z
UID:10000308-1765450800-1765458000@sladst1913.com
SUMMARY:Wesley's House Winter Winterland
DESCRIPTION:Come join the Community Awareness & Involvement committee for holiday fun at Wesley House
URL:https://sladst1913.com/event/wesleys-house-winter-winterland/
LOCATION:Wesley House\, 4507 E. Lee Avenue\, Saint Louis\, Missouri\, 63115
ATTACH;FMTTYPE=image/png:https://sladst1913.com/wp-content/uploads/2025/12/CAI-Welsey-House-Holiday-Flyer-25.png
END:VEVENT
BEGIN:VEVENT
DTSTART;TZID=America/Chicago:20251207T140000
DTEND;TZID=America/Chicago:20251207T160000
DTSTAMP:20260420T163315
CREATED:20250924T221626Z
LAST-MODIFIED:20251031T221240Z
UID:10000190-1765116000-1765123200@sladst1913.com
SUMMARY:There's No Place Like Home Holiday Social
DESCRIPTION:https://form.jotform.com/SLADST1913/HolidaySocial  \n\n\n\nRegistration deadline: Friday\, November 28th or until capacity is reached.
URL:https://sladst1913.com/event/rr-holiday-social/
LOCATION:Members Only\, 3050 Olive St.\, St. Louis\, MO\, 63130\, United States
ATTACH;FMTTYPE=image/png:https://sladst1913.com/wp-content/uploads/2025/10/2025-Holiday-Social.png
END:VEVENT
BEGIN:VEVENT
DTSTART;TZID=America/Chicago:20251206T130000
DTEND;TZID=America/Chicago:20251206T150000
DTSTAMP:20260420T163315
CREATED:20250519T170017Z
LAST-MODIFIED:20250912T211705Z
UID:10000119-1765026000-1765033200@sladst1913.com
SUMMARY:SLA Chapter Meeting
DESCRIPTION:Monthly Meeting of the Sorors of the Saint Louis Alumnae chapter of Delta Sigma Theta Sorority\, Inc.
URL:https://sladst1913.com/event/sla-chapter-meeting-2/2025-12-06/
LOCATION:Carr Lane VPA Middle School\, 1004 N. Jefferson\, Saint Louis\, MO\, 63106\, United States
CATEGORIES:Chapter Meeting
ATTACH;FMTTYPE=image/png:https://sladst1913.com/wp-content/uploads/2025/01/NewSLAlogo_Outline.png
ORGANIZER;CN="Tracey Carter%2C President":MAILTO:president.sladst@gmail.com
END:VEVENT
BEGIN:VEVENT
DTSTART;TZID=America/Chicago:20251204T183000
DTEND;TZID=America/Chicago:20251204T200000
DTSTAMP:20260420T163315
CREATED:20250924T221823Z
LAST-MODIFIED:20251031T223524Z
UID:10000191-1764873000-1764878400@sladst1913.com
SUMMARY:What's the 411? Membership Orientation
DESCRIPTION:Are you up to date on Protocol and Traditions?  Want to learn more about Delta’s governing documents? Want to know what’s new in Delta and SLA tech?  If you’ve got questions\, we’ve got answers.  Join us for the What’s the 411? Information session. \n\n\n\nYou don’t need to be new to Delta or SLA to join this information session. All sorors are welcome!Registration required. \n\n\n\nhttps://us06web.zoom.us/meeting/register/gSogOZImTyinfL6-OLe-Cw
URL:https://sladst1913.com/event/rr-holiday-social-2/
LOCATION:Missouri
ATTACH;FMTTYPE=image/png:https://sladst1913.com/wp-content/uploads/2025/10/Whats-the-411-2025.png
END:VEVENT
BEGIN:VEVENT
DTSTART;TZID=America/Chicago:20251203T183000
DTEND;TZID=America/Chicago:20251203T200000
DTSTAMP:20260420T163315
CREATED:20250912T210633Z
LAST-MODIFIED:20250912T210639Z
UID:10000110-1764786600-1764792000@sladst1913.com
SUMMARY:Parliamentary Study Group
DESCRIPTION:Are you interested in holding a leadership position and/or would you like to learn more about chapter operations? Participate in the Parliamentary Study Group (PSG). \n\n\n\n via 👉🏽  Zoom. \n\n\n\nQuestions? Want to sign-up for PSG? \n\n\n\nContact Parliamentarian Glenise Cloudy at \n\n\n\n314-629-9153. \n\n\n\nBecome an informed member!
URL:https://sladst1913.com/event/parliamentary-study-group-3/2025-12-03/
LOCATION:Missouri
ATTACH;FMTTYPE=image/png:https://sladst1913.com/wp-content/uploads/2024/10/Parliamentarian-SLA-v2.png
END:VEVENT
END:VCALENDAR