BEGIN:VCALENDAR
VERSION:2.0
PRODID:-//Saint Louis Alumnae Chapter of Delta Sigma Theta Sorority, Inc. - ECPv6.15.20//NONSGML v1.0//EN
CALSCALE:GREGORIAN
METHOD:PUBLISH
X-WR-CALNAME:Saint Louis Alumnae Chapter of Delta Sigma Theta Sorority, Inc.
X-ORIGINAL-URL:https://sladst1913.com
X-WR-CALDESC:Events for Saint Louis Alumnae Chapter of Delta Sigma Theta Sorority, Inc.
REFRESH-INTERVAL;VALUE=DURATION:PT1H
X-Robots-Tag:noindex
X-PUBLISHED-TTL:PT1H
BEGIN:VTIMEZONE
TZID:America/Chicago
BEGIN:DAYLIGHT
TZOFFSETFROM:-0600
TZOFFSETTO:-0500
TZNAME:CDT
DTSTART:20230312T080000
END:DAYLIGHT
BEGIN:STANDARD
TZOFFSETFROM:-0500
TZOFFSETTO:-0600
TZNAME:CST
DTSTART:20231105T070000
END:STANDARD
BEGIN:DAYLIGHT
TZOFFSETFROM:-0600
TZOFFSETTO:-0500
TZNAME:CDT
DTSTART:20240310T080000
END:DAYLIGHT
BEGIN:STANDARD
TZOFFSETFROM:-0500
TZOFFSETTO:-0600
TZNAME:CST
DTSTART:20241103T070000
END:STANDARD
BEGIN:DAYLIGHT
TZOFFSETFROM:-0600
TZOFFSETTO:-0500
TZNAME:CDT
DTSTART:20250309T080000
END:DAYLIGHT
BEGIN:STANDARD
TZOFFSETFROM:-0500
TZOFFSETTO:-0600
TZNAME:CST
DTSTART:20251102T070000
END:STANDARD
END:VTIMEZONE
BEGIN:VEVENT
DTSTART;TZID=America/Chicago:20241005T130000
DTEND;TZID=America/Chicago:20241005T150000
DTSTAMP:20260421T005113
CREATED:20240909T235757Z
LAST-MODIFIED:20240909T235757Z
UID:10000008-1728133200-1728140400@sladst1913.com
SUMMARY:October Chapter Meeting
DESCRIPTION:
URL:https://sladst1913.com/event/october-chapter-meeting/
LOCATION:Carr Lane VPA Middle School\, 1004 N. Jefferson\, Saint Louis\, MO\, 63106\, United States
CATEGORIES:Chapter Meeting
ATTACH;FMTTYPE=image/png:https://sladst1913.com/wp-content/uploads/2024/08/SLADST_Logo-1.png
ORGANIZER;CN="Tracey Carter%2C President":MAILTO:president.sladst@gmail.com
END:VEVENT
BEGIN:VEVENT
DTSTART;TZID=America/Chicago:20240926T130000
DTEND;TZID=America/Chicago:20240926T150000
DTSTAMP:20260421T005113
CREATED:20240910T044238Z
LAST-MODIFIED:20240910T044238Z
UID:10000006-1727355600-1727362800@sladst1913.com
SUMMARY:2024-2025 Risk Management Training
DESCRIPTION:Zoom registration required
URL:https://sladst1913.com/event/2024-2025-risk-management-training-3/
LOCATION:Virtual
CATEGORIES:PP&D
ATTACH;FMTTYPE=image/webp:https://sladst1913.com/wp-content/uploads/2024/09/Image20240909183440.webp
ORGANIZER;CN="1st Vice President":MAILTO:1vp.sladst@gmail.com
END:VEVENT
BEGIN:VEVENT
DTSTART;TZID=America/Chicago:20240922T180000
DTEND;TZID=America/Chicago:20240922T200000
DTSTAMP:20260421T005113
CREATED:20240910T044029Z
LAST-MODIFIED:20240910T044414Z
UID:10000005-1727028000-1727035200@sladst1913.com
SUMMARY:2024-2025 Risk Management Training
DESCRIPTION:Zoom registration required
URL:https://sladst1913.com/event/2024-2025-risk-management-training-2/
LOCATION:Virtual
CATEGORIES:PP&D
ATTACH;FMTTYPE=image/webp:https://sladst1913.com/wp-content/uploads/2024/09/Image20240909183440.webp
ORGANIZER;CN="1st Vice President":MAILTO:1vp.sladst@gmail.com
END:VEVENT
BEGIN:VEVENT
DTSTART;TZID=America/Chicago:20240919T180000
DTEND;TZID=America/Chicago:20240919T200000
DTSTAMP:20260421T005113
CREATED:20240910T043512Z
LAST-MODIFIED:20240910T175428Z
UID:10000004-1726768800-1726776000@sladst1913.com
SUMMARY:2024-2025 Risk Management Training
DESCRIPTION:Zoom registration required
URL:https://sladst1913.com/event/2024-2025-risk-management-training/
LOCATION:Virtual
CATEGORIES:PP&D
ATTACH;FMTTYPE=image/webp:https://sladst1913.com/wp-content/uploads/2024/09/Image20240909183440.webp
ORGANIZER;CN="1st Vice President":MAILTO:1vp.sladst@gmail.com
END:VEVENT
BEGIN:VEVENT
DTSTART;TZID=America/Chicago:20240915T093000
DTEND;TZID=America/Chicago:20240915T123000
DTSTAMP:20260421T005113
CREATED:20240910T042703Z
LAST-MODIFIED:20240910T042902Z
UID:10000003-1726392600-1726403400@sladst1913.com
SUMMARY:2024 Fall Retreat Ecumenical Service
DESCRIPTION:Attire: Delta Red \nWorship Time: 9:45am
URL:https://sladst1913.com/event/2024-fall-retreat-ecumenical-service/
LOCATION:First Baptist Church of Chesterfield\, 17103 Wild Horse Creek Rd.\, Chesterfield\, MO\, 63005\, United States
CATEGORIES:R&R Events
ATTACH;FMTTYPE=application/pdf:https://sladst1913.com/wp-content/uploads/2024/09/Fall-Retreat-24-Ecumenical.pdf
ORGANIZER;CN="Reclamation & Retention":MAILTO:randr.sladst@gmail.com
END:VEVENT
BEGIN:VEVENT
DTSTART;TZID=America/Chicago:20240914T100000
DTEND;TZID=America/Chicago:20240914T150000
DTSTAMP:20260421T005113
CREATED:20240910T003119Z
LAST-MODIFIED:20240910T021120Z
UID:10000002-1726308000-1726326000@sladst1913.com
SUMMARY:Fall Sisterhood Retreat 2024
DESCRIPTION:Keeping Your Delta Spirit Ignited is the theme that will guide the work of the Reclamation and Retention committee this year. We will begin the year by Lighting Your Spirit at the Fall Retreat. \nThis is an event you will not want to miss! \nSeveral interactive workshops and fun activities have been planned to ignite the Delta spirit in each of you. What better way to start a new sorority year than by learning and socializing with your sisters? \nWe are looking forward to seeing you on September 14th. \nMarriott St. Louis Airport  \n10700 Pear Tree Ln  \nSt. Louis\, MO 63134
URL:https://sladst1913.com/event/fall-sisterhood-retreat-2024/
LOCATION:Marriott St. Louis Airport\, 10700 Pear Tree Lane\, Saint Louis\, MO\, 63134\, United States
CATEGORIES:R&R Events
ATTACH;FMTTYPE=application/pdf:https://sladst1913.com/wp-content/uploads/2024/09/Fall-Retreat-24-Flyer.pdf
ORGANIZER;CN="Reclamation & Retention":MAILTO:randr.sladst@gmail.com
END:VEVENT
BEGIN:VEVENT
DTSTART;TZID=America/Chicago:20240910T183000
DTEND;TZID=America/Chicago:20240910T203000
DTSTAMP:20260421T005113
CREATED:20240909T225223Z
LAST-MODIFIED:20240910T023744Z
UID:10000001-1725993000-1726000200@sladst1913.com
SUMMARY:All Chairs Meeting
DESCRIPTION:
URL:https://sladst1913.com/event/all-chairs-meeting/
CATEGORIES:All Chairs Meeting
ORGANIZER;CN="Tracey Carter%2C President":MAILTO:president.sladst@gmail.com
END:VEVENT
END:VCALENDAR