BEGIN:VCALENDAR
VERSION:2.0
PRODID:-//Saint Louis Alumnae Chapter of Delta Sigma Theta Sorority, Inc. - ECPv6.15.20//NONSGML v1.0//EN
CALSCALE:GREGORIAN
METHOD:PUBLISH
X-WR-CALNAME:Saint Louis Alumnae Chapter of Delta Sigma Theta Sorority, Inc.
X-ORIGINAL-URL:https://sladst1913.com
X-WR-CALDESC:Events for Saint Louis Alumnae Chapter of Delta Sigma Theta Sorority, Inc.
REFRESH-INTERVAL;VALUE=DURATION:PT1H
X-Robots-Tag:noindex
X-PUBLISHED-TTL:PT1H
BEGIN:VTIMEZONE
TZID:America/Chicago
BEGIN:DAYLIGHT
TZOFFSETFROM:-0600
TZOFFSETTO:-0500
TZNAME:CDT
DTSTART:20250309T080000
END:DAYLIGHT
BEGIN:STANDARD
TZOFFSETFROM:-0500
TZOFFSETTO:-0600
TZNAME:CST
DTSTART:20251102T070000
END:STANDARD
BEGIN:DAYLIGHT
TZOFFSETFROM:-0600
TZOFFSETTO:-0500
TZNAME:CDT
DTSTART:20260308T080000
END:DAYLIGHT
BEGIN:STANDARD
TZOFFSETFROM:-0500
TZOFFSETTO:-0600
TZNAME:CST
DTSTART:20261101T070000
END:STANDARD
BEGIN:DAYLIGHT
TZOFFSETFROM:-0600
TZOFFSETTO:-0500
TZNAME:CDT
DTSTART:20270314T080000
END:DAYLIGHT
BEGIN:STANDARD
TZOFFSETFROM:-0500
TZOFFSETTO:-0600
TZNAME:CST
DTSTART:20271107T070000
END:STANDARD
END:VTIMEZONE
BEGIN:VEVENT
DTSTART;TZID=America/Chicago:20260221T000000
DTEND;TZID=America/Chicago:20260221T235959
DTSTAMP:20260420T112200
CREATED:20250924T223837Z
LAST-MODIFIED:20250924T223840Z
UID:10000204-1771632000-1771718399@sladst1913.com
SUMMARY:Delta GEMS - Healthy Cooking
DESCRIPTION:
URL:https://sladst1913.com/event/delta-gems-healthy-cooking/
LOCATION:Missouri
ATTACH;FMTTYPE=image/jpeg:https://sladst1913.com/wp-content/uploads/2025/09/PlanIcon__99554878-scaled.jpeg
END:VEVENT
BEGIN:VEVENT
DTSTART;TZID=America/Chicago:20260221T090000
DTEND;TZID=America/Chicago:20260221T140000
DTSTAMP:20260420T112200
CREATED:20250924T224123Z
LAST-MODIFIED:20251206T014155Z
UID:10000205-1771664400-1771682400@sladst1913.com
SUMMARY:2026 Founders Day Celebration & Rededication
DESCRIPTION:Theme: Celebrating Tradition Empowers Our Future \n\n\n\nThe Saint Louis Alumnae Chapter is officially launching the “100 Years: A Celebration of Service\, Leadership\, & Advocacy.” The centennial celebration outline includes details on events\, package costs\, hotel accommodations\, sponsorship levels\, and a registration form. We are thrilled about this momentous occasion and look forward to celebrating with you.  For more information please contact sla100threservations@gmail.com \n\n\n\nRegister here: https://form.jotform.com/SLADST1913/100Years
URL:https://sladst1913.com/event/founders-day/
LOCATION:Renaissance Airport Hotel\, 9801 Natural Bridge Rd\, Saint Louis\, Missouri\, 63134
ATTACH;FMTTYPE=image/gif:https://sladst1913.com/wp-content/uploads/2025/12/FoundersDay.gif
END:VEVENT
END:VCALENDAR