BEGIN:VCALENDAR
VERSION:2.0
PRODID:-//Saint Louis Alumnae Chapter of Delta Sigma Theta Sorority, Inc. - ECPv6.15.20//NONSGML v1.0//EN
CALSCALE:GREGORIAN
METHOD:PUBLISH
X-WR-CALNAME:Saint Louis Alumnae Chapter of Delta Sigma Theta Sorority, Inc.
X-ORIGINAL-URL:https://sladst1913.com
X-WR-CALDESC:Events for Saint Louis Alumnae Chapter of Delta Sigma Theta Sorority, Inc.
REFRESH-INTERVAL;VALUE=DURATION:PT1H
X-Robots-Tag:noindex
X-PUBLISHED-TTL:PT1H
BEGIN:VTIMEZONE
TZID:America/Chicago
BEGIN:DAYLIGHT
TZOFFSETFROM:-0600
TZOFFSETTO:-0500
TZNAME:CDT
DTSTART:20240310T080000
END:DAYLIGHT
BEGIN:STANDARD
TZOFFSETFROM:-0500
TZOFFSETTO:-0600
TZNAME:CST
DTSTART:20241103T070000
END:STANDARD
BEGIN:DAYLIGHT
TZOFFSETFROM:-0600
TZOFFSETTO:-0500
TZNAME:CDT
DTSTART:20250309T080000
END:DAYLIGHT
BEGIN:STANDARD
TZOFFSETFROM:-0500
TZOFFSETTO:-0600
TZNAME:CST
DTSTART:20251102T070000
END:STANDARD
BEGIN:DAYLIGHT
TZOFFSETFROM:-0600
TZOFFSETTO:-0500
TZNAME:CDT
DTSTART:20260308T080000
END:DAYLIGHT
BEGIN:STANDARD
TZOFFSETFROM:-0500
TZOFFSETTO:-0600
TZNAME:CST
DTSTART:20261101T070000
END:STANDARD
END:VTIMEZONE
BEGIN:VEVENT
DTSTART;TZID=America/Chicago:20251115T000000
DTEND;TZID=America/Chicago:20251115T235959
DTSTAMP:20260420T230727
CREATED:20250924T221026Z
LAST-MODIFIED:20250924T221030Z
UID:10000185-1763164800-1763251199@sladst1913.com
SUMMARY:Delta Academy - Speaking
DESCRIPTION:
URL:https://sladst1913.com/event/delta-academy-speaking/
LOCATION:Missouri
ATTACH;FMTTYPE=image/jpeg:https://sladst1913.com/wp-content/uploads/2025/09/PlanIcon__99554878-scaled.jpeg
END:VEVENT
BEGIN:VEVENT
DTSTART;TZID=America/Chicago:20251115T000000
DTEND;TZID=America/Chicago:20251115T235959
DTSTAMP:20260420T230727
CREATED:20250924T221146Z
LAST-MODIFIED:20250924T221151Z
UID:10000186-1763164800-1763251199@sladst1913.com
SUMMARY:Delta GEMS - Scholarship Prep Part 1
DESCRIPTION:
URL:https://sladst1913.com/event/delta-gems-scholarship-prep-part-1/
LOCATION:Missouri
ATTACH;FMTTYPE=image/jpeg:https://sladst1913.com/wp-content/uploads/2025/09/PlanIcon__99554878-scaled.jpeg
END:VEVENT
BEGIN:VEVENT
DTSTART;TZID=America/Chicago:20251115T000000
DTEND;TZID=America/Chicago:20251115T235959
DTSTAMP:20260420T230727
CREATED:20250924T221352Z
LAST-MODIFIED:20250924T221356Z
UID:10000188-1763164800-1763251199@sladst1913.com
SUMMARY:Twinkle-Giving: Meal Making Class
DESCRIPTION:
URL:https://sladst1913.com/event/twinkle-giving-meal-making-class/
LOCATION:Missouri
ATTACH;FMTTYPE=image/jpeg:https://sladst1913.com/wp-content/uploads/2025/09/PlanIcon__99554878-scaled.jpeg
END:VEVENT
END:VCALENDAR